BEGIN:VCALENDAR
VERSION:2.0
PRODID:-//Creative Alliance - ECPv6.14.2//NONSGML v1.0//EN
CALSCALE:GREGORIAN
METHOD:PUBLISH
X-ORIGINAL-URL:https://creativealliance.org
X-WR-CALDESC:Events for Creative Alliance
REFRESH-INTERVAL;VALUE=DURATION:PT1H
X-Robots-Tag:noindex
X-PUBLISHED-TTL:PT1H
BEGIN:VTIMEZONE
TZID:America/New_York
BEGIN:DAYLIGHT
TZOFFSETFROM:-0500
TZOFFSETTO:-0400
TZNAME:EDT
DTSTART:20260308T070000
END:DAYLIGHT
BEGIN:STANDARD
TZOFFSETFROM:-0400
TZOFFSETTO:-0500
TZNAME:EST
DTSTART:20261101T060000
END:STANDARD
END:VTIMEZONE
BEGIN:VEVENT
DTSTART;TZID=America/New_York:20260423T183000
DTEND;TZID=America/New_York:20260423T183000
DTSTAMP:20260421T080803
CREATED:20260129T233018Z
LAST-MODIFIED:20260205T211931Z
UID:10005589-1776969000-1776969000@creativealliance.org
SUMMARY:Belly Dance with Naimah Dances | Spring
DESCRIPTION:https://creativealliance.my.salesforce-sites.com/ticket/#/events/a0SUp00000919KDMAYhttps://creativealliance.my.salesforce-sites.com/ticket/#/events/a0SUp00000919KDMAY
URL:https://creativealliance.org/event/belly-dance-with-naimah-dances-spring/2026-04-23/
CATEGORIES:Classes
ATTACH;FMTTYPE=image/jpeg:https://creativealliance.org/wp-content/uploads/2024/05/311306492_5507038992708235_2616857625733080843_n.jpg
END:VEVENT
BEGIN:VEVENT
DTSTART;TZID=America/New_York:20260430T183000
DTEND;TZID=America/New_York:20260430T183000
DTSTAMP:20260421T080803
CREATED:20260129T233018Z
LAST-MODIFIED:20260205T211931Z
UID:10005590-1777573800-1777573800@creativealliance.org
SUMMARY:Belly Dance with Naimah Dances | Spring
DESCRIPTION:https://creativealliance.my.salesforce-sites.com/ticket/#/events/a0SUp00000919KDMAYhttps://creativealliance.my.salesforce-sites.com/ticket/#/events/a0SUp00000919KDMAY
URL:https://creativealliance.org/event/belly-dance-with-naimah-dances-spring/2026-04-30/
CATEGORIES:Classes
ATTACH;FMTTYPE=image/jpeg:https://creativealliance.org/wp-content/uploads/2024/05/311306492_5507038992708235_2616857625733080843_n.jpg
END:VEVENT
BEGIN:VEVENT
DTSTART;TZID=America/New_York:20260507T183000
DTEND;TZID=America/New_York:20260507T183000
DTSTAMP:20260421T080803
CREATED:20260129T233018Z
LAST-MODIFIED:20260205T211931Z
UID:10005591-1778178600-1778178600@creativealliance.org
SUMMARY:Belly Dance with Naimah Dances | Spring
DESCRIPTION:https://creativealliance.my.salesforce-sites.com/ticket/#/events/a0SUp00000919KDMAYhttps://creativealliance.my.salesforce-sites.com/ticket/#/events/a0SUp00000919KDMAY
URL:https://creativealliance.org/event/belly-dance-with-naimah-dances-spring/2026-05-07/
CATEGORIES:Classes
ATTACH;FMTTYPE=image/jpeg:https://creativealliance.org/wp-content/uploads/2024/05/311306492_5507038992708235_2616857625733080843_n.jpg
END:VEVENT
BEGIN:VEVENT
DTSTART;TZID=America/New_York:20260514T183000
DTEND;TZID=America/New_York:20260514T183000
DTSTAMP:20260421T080803
CREATED:20260129T233018Z
LAST-MODIFIED:20260205T211931Z
UID:10005592-1778783400-1778783400@creativealliance.org
SUMMARY:Belly Dance with Naimah Dances | Spring
DESCRIPTION:https://creativealliance.my.salesforce-sites.com/ticket/#/events/a0SUp00000919KDMAYhttps://creativealliance.my.salesforce-sites.com/ticket/#/events/a0SUp00000919KDMAY
URL:https://creativealliance.org/event/belly-dance-with-naimah-dances-spring/2026-05-14/
CATEGORIES:Classes
ATTACH;FMTTYPE=image/jpeg:https://creativealliance.org/wp-content/uploads/2024/05/311306492_5507038992708235_2616857625733080843_n.jpg
END:VEVENT
END:VCALENDAR