BEGIN:VCALENDAR
VERSION:2.0
PRODID:-//Creative Alliance - ECPv6.14.2//NONSGML v1.0//EN
CALSCALE:GREGORIAN
METHOD:PUBLISH
X-WR-CALNAME:Creative Alliance
X-ORIGINAL-URL:https://creativealliance.org
X-WR-CALDESC:Events for Creative Alliance
REFRESH-INTERVAL;VALUE=DURATION:PT1H
X-Robots-Tag:noindex
X-PUBLISHED-TTL:PT1H
BEGIN:VTIMEZONE
TZID:America/New_York
BEGIN:DAYLIGHT
TZOFFSETFROM:-0500
TZOFFSETTO:-0400
TZNAME:EDT
DTSTART:20260308T070000
END:DAYLIGHT
BEGIN:STANDARD
TZOFFSETFROM:-0400
TZOFFSETTO:-0500
TZNAME:EST
DTSTART:20261101T060000
END:STANDARD
END:VTIMEZONE
BEGIN:VEVENT
DTSTART;TZID=America/New_York:20260515T193000
DTEND;TZID=America/New_York:20260515T193000
DTSTAMP:20260422T100732
CREATED:20260327T173818Z
LAST-MODIFIED:20260327T173818Z
UID:10005875-1778873400-1778873400@creativealliance.org
SUMMARY:Kaki King
DESCRIPTION:
URL:https://creativealliance.org/event/kaki-king/
CATEGORIES:Music, Performance & Film,Streaming
ATTACH;FMTTYPE=image/jpeg:https://creativealliance.org/wp-content/uploads/2026/03/Kaki-King-Official-Photo-2nd-half-2025-scaled.jpg
END:VEVENT
BEGIN:VEVENT
DTSTART;TZID=America/New_York:20260605T190000
DTEND;TZID=America/New_York:20260605T190000
DTSTAMP:20260422T100732
CREATED:20260317T145816Z
LAST-MODIFIED:20260317T145928Z
UID:10005801-1780686000-1780686000@creativealliance.org
SUMMARY:Joe Keyes & The Late Bloomer Band
DESCRIPTION:
URL:https://creativealliance.org/event/joe-keyes-the-late-bloomer-band/
CATEGORIES:Music, Performance & Film,Streaming
ATTACH;FMTTYPE=image/jpeg:https://creativealliance.org/wp-content/uploads/2026/03/Joe-Keyes-The-Late-Bloomer-Band.jpg
END:VEVENT
BEGIN:VEVENT
DTSTART;TZID=America/New_York:20260606T190000
DTEND;TZID=America/New_York:20260606T190000
DTSTAMP:20260422T100732
CREATED:20260415T122400Z
LAST-MODIFIED:20260415T122622Z
UID:10005897-1780772400-1780772400@creativealliance.org
SUMMARY:Mortified Pride Edition 2026
DESCRIPTION:
URL:https://creativealliance.org/event/mortified-pride-edition-2026/
CATEGORIES:Music, Performance & Film,Streaming
ATTACH;FMTTYPE=image/jpeg:https://creativealliance.org/wp-content/uploads/2025/09/Unknown-5-2.jpeg
END:VEVENT
BEGIN:VEVENT
DTSTART;TZID=America/New_York:20260612T193000
DTEND;TZID=America/New_York:20260612T193000
DTSTAMP:20260422T100732
CREATED:20251010T160011Z
LAST-MODIFIED:20260207T090731Z
UID:10004859-1781292600-1781292600@creativealliance.org
SUMMARY:Amythyst Kiah 2026
DESCRIPTION:
URL:https://creativealliance.org/event/amythyst-kiah-jun2026/
CATEGORIES:Music, Performance & Film,Streaming
ATTACH;FMTTYPE=image/jpeg:https://creativealliance.org/wp-content/uploads/2025/10/05_KevinKing_05132024_Rounder_Amythyst_Kiah_0615_Retouched_web8-1.jpg
END:VEVENT
BEGIN:VEVENT
DTSTART;TZID=America/New_York:20260618T193000
DTEND;TZID=America/New_York:20260618T193000
DTSTAMP:20260422T100732
CREATED:20251010T160049Z
LAST-MODIFIED:20260205T170521Z
UID:10004860-1781811000-1781811000@creativealliance.org
SUMMARY:The Leila
DESCRIPTION:
URL:https://creativealliance.org/event/the-leila-2026/
CATEGORIES:Music, Performance & Film,Streaming
ATTACH;FMTTYPE=image/jpeg:https://creativealliance.org/wp-content/uploads/2025/10/Adobe-Express-file-4-scaled.jpg
END:VEVENT
END:VCALENDAR