BEGIN:VCALENDAR
VERSION:2.0
PRODID:-//Creative Alliance - ECPv6.14.2//NONSGML v1.0//EN
CALSCALE:GREGORIAN
METHOD:PUBLISH
X-WR-CALNAME:Creative Alliance
X-ORIGINAL-URL:https://creativealliance.org
X-WR-CALDESC:Events for Creative Alliance
REFRESH-INTERVAL;VALUE=DURATION:PT1H
X-Robots-Tag:noindex
X-PUBLISHED-TTL:PT1H
BEGIN:VTIMEZONE
TZID:America/New_York
BEGIN:DAYLIGHT
TZOFFSETFROM:-0500
TZOFFSETTO:-0400
TZNAME:EDT
DTSTART:20260308T070000
END:DAYLIGHT
BEGIN:STANDARD
TZOFFSETFROM:-0400
TZOFFSETTO:-0500
TZNAME:EST
DTSTART:20261101T060000
END:STANDARD
END:VTIMEZONE
BEGIN:VEVENT
DTSTART;TZID=America/New_York:20260501T083000
DTEND;TZID=America/New_York:20260501T160000
DTSTAMP:20260425T090758
CREATED:20260122T193932Z
LAST-MODIFIED:20260423T152651Z
UID:10005243-1777624200-1777651200@creativealliance.org
SUMMARY:Camp COLLIDEscope 2026
DESCRIPTION:https://creativealliance.my.salesforce-sites.com/ticket/#/instances/a0FUp000000uVIrMAM \nhttps://creativealliance.my.salesforce-sites.com/ticket/#/instances/a0F4W00000b3qdrUAA
URL:https://creativealliance.org/event/camp-collidescope-2026/2026-05-01/
CATEGORIES:Classes,Youth & Family
ATTACH;FMTTYPE=image/jpeg:https://creativealliance.org/wp-content/uploads/2026/01/campcollidescope_FEB-MAY2026.jpg
END:VEVENT
BEGIN:VEVENT
DTSTART;TZID=America/New_York:20260509T110000
DTEND;TZID=America/New_York:20260509T110000
DTSTAMP:20260425T090758
CREATED:20260112T152449Z
LAST-MODIFIED:20260420T172102Z
UID:10005093-1778324400-1778324400@creativealliance.org
SUMMARY:Shake Out Your Sillies
DESCRIPTION:
URL:https://creativealliance.org/event/shake-out-your-sillies/2026-05-09/
CATEGORIES:Classes,Youth & Family
ATTACH;FMTTYPE=image/png:https://creativealliance.org/wp-content/uploads/2023/04/Screenshot-2023-07-14-at-10.48.14-PM-e1747675834782.png
END:VEVENT
BEGIN:VEVENT
DTSTART;TZID=America/New_York:20260510T100000
DTEND;TZID=America/New_York:20260510T110000
DTSTAMP:20260425T090758
CREATED:20260227T155625Z
LAST-MODIFIED:20260227T155625Z
UID:10005766-1778407200-1778410800@creativealliance.org
SUMMARY:“Mommy and Me:” Partner Magic for Kids! With School of Magic Arts
DESCRIPTION:
URL:https://creativealliance.org/event/mommy-and-me-partner-magic-for-kids-with-school-of-magic-arts/
CATEGORIES:Classes,Youth & Family
ATTACH;FMTTYPE=image/jpeg:https://creativealliance.org/wp-content/uploads/2026/02/Mommy-and-Me-Magic.jpg
END:VEVENT
BEGIN:VEVENT
DTSTART;TZID=America/New_York:20260510T110000
DTEND;TZID=America/New_York:20260510T130000
DTSTAMP:20260425T090758
CREATED:20260416T130718Z
LAST-MODIFIED:20260416T130839Z
UID:10005921-1778410800-1778418000@creativealliance.org
SUMMARY:Mother's Day Brunch with the Babes
DESCRIPTION:
URL:https://creativealliance.org/event/mothers-day-brunch-with-the-babes/
CATEGORIES:Classes,Youth & Family
ATTACH;FMTTYPE=image/jpeg:https://creativealliance.org/wp-content/uploads/2026/04/398961652_10224257492886587_1527016665107337787_n-e1776344721456.jpg
END:VEVENT
BEGIN:VEVENT
DTSTART;TZID=America/New_York:20260516T110000
DTEND;TZID=America/New_York:20260516T110000
DTSTAMP:20260425T090758
CREATED:20260112T152449Z
LAST-MODIFIED:20260420T172102Z
UID:10005094-1778929200-1778929200@creativealliance.org
SUMMARY:Shake Out Your Sillies
DESCRIPTION:
URL:https://creativealliance.org/event/shake-out-your-sillies/2026-05-16/
CATEGORIES:Classes,Youth & Family
ATTACH;FMTTYPE=image/png:https://creativealliance.org/wp-content/uploads/2023/04/Screenshot-2023-07-14-at-10.48.14-PM-e1747675834782.png
END:VEVENT
BEGIN:VEVENT
DTSTART;TZID=America/New_York:20260523T100000
DTEND;TZID=America/New_York:20260523T160000
DTSTAMP:20260425T090758
CREATED:20260227T180848Z
LAST-MODIFIED:20260227T180848Z
UID:10005769-1779530400-1779552000@creativealliance.org
SUMMARY:Painted Screens Master Class: A Baltimore Folk Art.
DESCRIPTION:
URL:https://creativealliance.org/event/painted-screens-master-class-a-baltimore-folk-art/
CATEGORIES:Classes,Youth & Family
ATTACH;FMTTYPE=image/png:https://creativealliance.org/wp-content/uploads/2022/10/Screen-Shot-2022-09-14-at-5.25.02-PM.png
END:VEVENT
BEGIN:VEVENT
DTSTART;TZID=America/New_York:20260606T120000
DTEND;TZID=America/New_York:20260606T143000
DTSTAMP:20260425T090758
CREATED:20260317T134639Z
LAST-MODIFIED:20260317T134639Z
UID:10005798-1780747200-1780756200@creativealliance.org
SUMMARY:Painted Screens: A Baltimore Folk Art
DESCRIPTION:
URL:https://creativealliance.org/event/painted-screens-a-baltimore-folk-art/
CATEGORIES:Classes,Youth & Family
ATTACH;FMTTYPE=image/png:https://creativealliance.org/wp-content/uploads/2022/10/Screen-Shot-2022-09-14-at-5.25.02-PM.png
END:VEVENT
BEGIN:VEVENT
DTSTART;TZID=America/New_York:20260607T100000
DTEND;TZID=America/New_York:20260607T130000
DTSTAMP:20260425T090758
CREATED:20260317T135938Z
LAST-MODIFIED:20260317T140002Z
UID:10005799-1780826400-1780837200@creativealliance.org
SUMMARY:Painting with Wool: A Folk Art
DESCRIPTION:
URL:https://creativealliance.org/event/painting-with-wool-a-folk-art/
CATEGORIES:Classes,Youth & Family
ATTACH;FMTTYPE=image/jpeg:https://creativealliance.org/wp-content/uploads/2026/03/IMG_3493-scaled-e1773755599288.jpeg
END:VEVENT
BEGIN:VEVENT
DTSTART;TZID=America/New_York:20260621T100000
DTEND;TZID=America/New_York:20260621T110000
DTSTAMP:20260425T090758
CREATED:20260227T160504Z
LAST-MODIFIED:20260227T160504Z
UID:10005767-1782036000-1782039600@creativealliance.org
SUMMARY:Daddy and Me: Partner Magic for Kids! With School of Magic Arts
DESCRIPTION:
URL:https://creativealliance.org/event/daddy-and-me-partner-magic-for-kids-with-school-of-magic-arts/
CATEGORIES:Classes,Youth & Family
ATTACH;FMTTYPE=image/jpeg:https://creativealliance.org/wp-content/uploads/2026/02/Daddy-and-Me-Magic.jpg
END:VEVENT
BEGIN:VEVENT
DTSTART;TZID=America/New_York:20260706T090000
DTEND;TZID=America/New_York:20260706T140000
DTSTAMP:20260425T090758
CREATED:20260128T155346Z
LAST-MODIFIED:20260408T173651Z
UID:10005337-1783328400-1783346400@creativealliance.org
SUMMARY:Cultural Curiosity Summer Camp 2026
DESCRIPTION:https://creativealliance.my.salesforce-sites.com/ticket/#/instances/a0FUp000009iUejMAE \nhttps://creativealliance.my.salesforce-sites.com/ticket/#/instances/a0FUp000000uVIrMAM \nhttps://creativealliance.my.salesforce-sites.com/ticket/#/instances/a0F4W00000b3qdrUAA
URL:https://creativealliance.org/event/cultural-curiosity-summer-camp-2026-2/2026-07-06/
CATEGORIES:Classes,Youth & Family
ATTACH;FMTTYPE=image/png:https://creativealliance.org/wp-content/uploads/2026/01/Camp_Curiosity_SocialHero-16x9-1.png
END:VEVENT
BEGIN:VEVENT
DTSTART;TZID=America/New_York:20260711T110000
DTEND;TZID=America/New_York:20260711T110000
DTSTAMP:20260425T090758
CREATED:20260112T152449Z
LAST-MODIFIED:20260420T172102Z
UID:10005095-1783767600-1783767600@creativealliance.org
SUMMARY:Shake Out Your Sillies
DESCRIPTION:
URL:https://creativealliance.org/event/shake-out-your-sillies/2026-07-11/
CATEGORIES:Classes,Youth & Family
ATTACH;FMTTYPE=image/png:https://creativealliance.org/wp-content/uploads/2023/04/Screenshot-2023-07-14-at-10.48.14-PM-e1747675834782.png
END:VEVENT
BEGIN:VEVENT
DTSTART;TZID=America/New_York:20260713T090000
DTEND;TZID=America/New_York:20260713T140000
DTSTAMP:20260425T090758
CREATED:20260128T155346Z
LAST-MODIFIED:20260408T173651Z
UID:10005508-1783933200-1783951200@creativealliance.org
SUMMARY:Cultural Curiosity Summer Camp 2026
DESCRIPTION:https://creativealliance.my.salesforce-sites.com/ticket/#/instances/a0FUp000009iUejMAE \nhttps://creativealliance.my.salesforce-sites.com/ticket/#/instances/a0FUp000000uVIrMAM \nhttps://creativealliance.my.salesforce-sites.com/ticket/#/instances/a0F4W00000b3qdrUAA
URL:https://creativealliance.org/event/cultural-curiosity-summer-camp-2026-2/2026-07-13/
CATEGORIES:Classes,Youth & Family
ATTACH;FMTTYPE=image/png:https://creativealliance.org/wp-content/uploads/2026/01/Camp_Curiosity_SocialHero-16x9-1.png
END:VEVENT
BEGIN:VEVENT
DTSTART;TZID=America/New_York:20260718T110000
DTEND;TZID=America/New_York:20260718T110000
DTSTAMP:20260425T090758
CREATED:20260112T152449Z
LAST-MODIFIED:20260420T172102Z
UID:10005096-1784372400-1784372400@creativealliance.org
SUMMARY:Shake Out Your Sillies
DESCRIPTION:
URL:https://creativealliance.org/event/shake-out-your-sillies/2026-07-18/
CATEGORIES:Classes,Youth & Family
ATTACH;FMTTYPE=image/png:https://creativealliance.org/wp-content/uploads/2023/04/Screenshot-2023-07-14-at-10.48.14-PM-e1747675834782.png
END:VEVENT
BEGIN:VEVENT
DTSTART;TZID=America/New_York:20260720T090000
DTEND;TZID=America/New_York:20260720T140000
DTSTAMP:20260425T090758
CREATED:20260128T155346Z
LAST-MODIFIED:20260408T173651Z
UID:10005509-1784538000-1784556000@creativealliance.org
SUMMARY:Cultural Curiosity Summer Camp 2026
DESCRIPTION:https://creativealliance.my.salesforce-sites.com/ticket/#/instances/a0FUp000009iUejMAE \nhttps://creativealliance.my.salesforce-sites.com/ticket/#/instances/a0FUp000000uVIrMAM \nhttps://creativealliance.my.salesforce-sites.com/ticket/#/instances/a0F4W00000b3qdrUAA
URL:https://creativealliance.org/event/cultural-curiosity-summer-camp-2026-2/2026-07-20/
CATEGORIES:Classes,Youth & Family
ATTACH;FMTTYPE=image/png:https://creativealliance.org/wp-content/uploads/2026/01/Camp_Curiosity_SocialHero-16x9-1.png
END:VEVENT
BEGIN:VEVENT
DTSTART;TZID=America/New_York:20260720T160000
DTEND;TZID=America/New_York:20260720T190000
DTSTAMP:20260425T090758
CREATED:20260423T025202Z
LAST-MODIFIED:20260423T153133Z
UID:10005929-1784563200-1784574000@creativealliance.org
SUMMARY:Butōh Dance Workshop with Yumiko Yoshioka
DESCRIPTION:
URL:https://creativealliance.org/event/butoh-dance-workshop-with-yumiko-yoshioka/2026-07-20/
CATEGORIES:Classes,Youth & Family
ATTACH;FMTTYPE=image/jpeg:https://creativealliance.org/wp-content/uploads/2026/04/Butoh_Dance_Workshop_Raul_Bartolome_Yumiko_desert8.jpg
END:VEVENT
BEGIN:VEVENT
DTSTART;TZID=America/New_York:20260721T160000
DTEND;TZID=America/New_York:20260721T190000
DTSTAMP:20260425T090758
CREATED:20260423T025202Z
LAST-MODIFIED:20260423T153133Z
UID:10005930-1784649600-1784660400@creativealliance.org
SUMMARY:Butōh Dance Workshop with Yumiko Yoshioka
DESCRIPTION:
URL:https://creativealliance.org/event/butoh-dance-workshop-with-yumiko-yoshioka/2026-07-21/
CATEGORIES:Classes,Youth & Family
ATTACH;FMTTYPE=image/jpeg:https://creativealliance.org/wp-content/uploads/2026/04/Butoh_Dance_Workshop_Raul_Bartolome_Yumiko_desert8.jpg
END:VEVENT
BEGIN:VEVENT
DTSTART;TZID=America/New_York:20260722T160000
DTEND;TZID=America/New_York:20260722T190000
DTSTAMP:20260425T090758
CREATED:20260423T025202Z
LAST-MODIFIED:20260423T153133Z
UID:10005931-1784736000-1784746800@creativealliance.org
SUMMARY:Butōh Dance Workshop with Yumiko Yoshioka
DESCRIPTION:
URL:https://creativealliance.org/event/butoh-dance-workshop-with-yumiko-yoshioka/2026-07-22/
CATEGORIES:Classes,Youth & Family
ATTACH;FMTTYPE=image/jpeg:https://creativealliance.org/wp-content/uploads/2026/04/Butoh_Dance_Workshop_Raul_Bartolome_Yumiko_desert8.jpg
END:VEVENT
BEGIN:VEVENT
DTSTART;TZID=America/New_York:20260725T110000
DTEND;TZID=America/New_York:20260725T110000
DTSTAMP:20260425T090758
CREATED:20260112T152449Z
LAST-MODIFIED:20260420T172102Z
UID:10005097-1784977200-1784977200@creativealliance.org
SUMMARY:Shake Out Your Sillies
DESCRIPTION:
URL:https://creativealliance.org/event/shake-out-your-sillies/2026-07-25/
CATEGORIES:Classes,Youth & Family
ATTACH;FMTTYPE=image/png:https://creativealliance.org/wp-content/uploads/2023/04/Screenshot-2023-07-14-at-10.48.14-PM-e1747675834782.png
END:VEVENT
BEGIN:VEVENT
DTSTART;TZID=America/New_York:20260727T090000
DTEND;TZID=America/New_York:20260727T140000
DTSTAMP:20260425T090758
CREATED:20260128T155346Z
LAST-MODIFIED:20260408T173651Z
UID:10005510-1785142800-1785160800@creativealliance.org
SUMMARY:Cultural Curiosity Summer Camp 2026
DESCRIPTION:https://creativealliance.my.salesforce-sites.com/ticket/#/instances/a0FUp000009iUejMAE \nhttps://creativealliance.my.salesforce-sites.com/ticket/#/instances/a0FUp000000uVIrMAM \nhttps://creativealliance.my.salesforce-sites.com/ticket/#/instances/a0F4W00000b3qdrUAA
URL:https://creativealliance.org/event/cultural-curiosity-summer-camp-2026-2/2026-07-27/
CATEGORIES:Classes,Youth & Family
ATTACH;FMTTYPE=image/png:https://creativealliance.org/wp-content/uploads/2026/01/Camp_Curiosity_SocialHero-16x9-1.png
END:VEVENT
BEGIN:VEVENT
DTSTART;TZID=America/New_York:20260801T110000
DTEND;TZID=America/New_York:20260801T110000
DTSTAMP:20260425T090758
CREATED:20260112T152449Z
LAST-MODIFIED:20260420T172102Z
UID:10005098-1785582000-1785582000@creativealliance.org
SUMMARY:Shake Out Your Sillies
DESCRIPTION:
URL:https://creativealliance.org/event/shake-out-your-sillies/2026-08-01/
CATEGORIES:Classes,Youth & Family
ATTACH;FMTTYPE=image/png:https://creativealliance.org/wp-content/uploads/2023/04/Screenshot-2023-07-14-at-10.48.14-PM-e1747675834782.png
END:VEVENT
BEGIN:VEVENT
DTSTART;TZID=America/New_York:20260803T090000
DTEND;TZID=America/New_York:20260803T140000
DTSTAMP:20260425T090758
CREATED:20260128T155346Z
LAST-MODIFIED:20260408T173651Z
UID:10005511-1785747600-1785765600@creativealliance.org
SUMMARY:Cultural Curiosity Summer Camp 2026
DESCRIPTION:https://creativealliance.my.salesforce-sites.com/ticket/#/instances/a0FUp000009iUejMAE \nhttps://creativealliance.my.salesforce-sites.com/ticket/#/instances/a0FUp000000uVIrMAM \nhttps://creativealliance.my.salesforce-sites.com/ticket/#/instances/a0F4W00000b3qdrUAA
URL:https://creativealliance.org/event/cultural-curiosity-summer-camp-2026-2/2026-08-03/
CATEGORIES:Classes,Youth & Family
ATTACH;FMTTYPE=image/png:https://creativealliance.org/wp-content/uploads/2026/01/Camp_Curiosity_SocialHero-16x9-1.png
END:VEVENT
BEGIN:VEVENT
DTSTART;TZID=America/New_York:20260808T110000
DTEND;TZID=America/New_York:20260808T110000
DTSTAMP:20260425T090758
CREATED:20260112T152449Z
LAST-MODIFIED:20260420T172102Z
UID:10005099-1786186800-1786186800@creativealliance.org
SUMMARY:Shake Out Your Sillies
DESCRIPTION:
URL:https://creativealliance.org/event/shake-out-your-sillies/2026-08-08/
CATEGORIES:Classes,Youth & Family
ATTACH;FMTTYPE=image/png:https://creativealliance.org/wp-content/uploads/2023/04/Screenshot-2023-07-14-at-10.48.14-PM-e1747675834782.png
END:VEVENT
BEGIN:VEVENT
DTSTART;TZID=America/New_York:20260815T110000
DTEND;TZID=America/New_York:20260815T110000
DTSTAMP:20260425T090758
CREATED:20260112T152449Z
LAST-MODIFIED:20260420T172102Z
UID:10005100-1786791600-1786791600@creativealliance.org
SUMMARY:Shake Out Your Sillies
DESCRIPTION:
URL:https://creativealliance.org/event/shake-out-your-sillies/2026-08-15/
CATEGORIES:Classes,Youth & Family
ATTACH;FMTTYPE=image/png:https://creativealliance.org/wp-content/uploads/2023/04/Screenshot-2023-07-14-at-10.48.14-PM-e1747675834782.png
END:VEVENT
BEGIN:VEVENT
DTSTART;TZID=America/New_York:20260822T110000
DTEND;TZID=America/New_York:20260822T110000
DTSTAMP:20260425T090758
CREATED:20260112T152449Z
LAST-MODIFIED:20260420T172102Z
UID:10005101-1787396400-1787396400@creativealliance.org
SUMMARY:Shake Out Your Sillies
DESCRIPTION:
URL:https://creativealliance.org/event/shake-out-your-sillies/2026-08-22/
CATEGORIES:Classes,Youth & Family
ATTACH;FMTTYPE=image/png:https://creativealliance.org/wp-content/uploads/2023/04/Screenshot-2023-07-14-at-10.48.14-PM-e1747675834782.png
END:VEVENT
END:VCALENDAR