BEGIN:VCALENDAR
VERSION:2.0
PRODID:-//Creative Alliance - ECPv6.14.2//NONSGML v1.0//EN
CALSCALE:GREGORIAN
METHOD:PUBLISH
X-WR-CALNAME:Creative Alliance
X-ORIGINAL-URL:https://creativealliance.org
X-WR-CALDESC:Events for Creative Alliance
REFRESH-INTERVAL;VALUE=DURATION:PT1H
X-Robots-Tag:noindex
X-PUBLISHED-TTL:PT1H
BEGIN:VTIMEZONE
TZID:America/New_York
BEGIN:DAYLIGHT
TZOFFSETFROM:-0500
TZOFFSETTO:-0400
TZNAME:EDT
DTSTART:20260308T070000
END:DAYLIGHT
BEGIN:STANDARD
TZOFFSETFROM:-0400
TZOFFSETTO:-0500
TZNAME:EST
DTSTART:20261101T060000
END:STANDARD
END:VTIMEZONE
BEGIN:VEVENT
DTSTART;TZID=America/New_York:20260117T133000
DTEND;TZID=America/New_York:20260117T143000
DTSTAMP:20260421T143131
CREATED:20251218T160432Z
LAST-MODIFIED:20260420T172139Z
UID:10005005-1768656600-1768660200@creativealliance.org
SUMMARY:Indian Classical Dance - Bharatnatyam
DESCRIPTION:
URL:https://creativealliance.org/event/indian-classical-dance-bharatnatyam-with-jhu-shakti-2026/2026-01-17/
CATEGORIES:Classes
ATTACH;FMTTYPE=image/jpeg:https://creativealliance.org/wp-content/uploads/2025/10/thumbnail_RGBTV2025Origins2025April122025PAJ_9359.jpg
END:VEVENT
BEGIN:VEVENT
DTSTART;TZID=America/New_York:20260122T190000
DTEND;TZID=America/New_York:20260122T190000
DTSTAMP:20260421T143131
CREATED:20251204T023551Z
LAST-MODIFIED:20260113T192714Z
UID:10004921-1769108400-1769108400@creativealliance.org
SUMMARY:Craft and Cinema Night: Legally Blonde
DESCRIPTION:
URL:https://creativealliance.org/event/craft-and-cinema-night-legally-blonde/
CATEGORIES:Music, Performance & Film
END:VEVENT
BEGIN:VEVENT
DTSTART;TZID=America/New_York:20260130T193000
DTEND;TZID=America/New_York:20260130T193000
DTSTAMP:20260421T143131
CREATED:20251010T160011Z
LAST-MODIFIED:20260207T091537Z
UID:10004848-1769801400-1769801400@creativealliance.org
SUMMARY:Outcalls w/ The Morel Trio
DESCRIPTION:
URL:https://creativealliance.org/event/the-outcalls-w-the-morel-trio/
CATEGORIES:Music, Performance & Film,Streaming
ATTACH;FMTTYPE=image/jpeg:https://creativealliance.org/wp-content/uploads/2025/10/Outcalls-2025.235.jpg
END:VEVENT
BEGIN:VEVENT
DTSTART;TZID=America/New_York:20260131T193000
DTEND;TZID=America/New_York:20260131T193000
DTSTAMP:20260421T143131
CREATED:20251231T054428Z
LAST-MODIFIED:20260130T170413Z
UID:10005030-1769887800-1769887800@creativealliance.org
SUMMARY:Landis Harry Larry with Micah E. Wood
DESCRIPTION:
URL:https://creativealliance.org/event/landis-harry-larry-with-micah-e-wood/
CATEGORIES:Music, Performance & Film,Streaming
ATTACH;FMTTYPE=image/png:https://creativealliance.org/wp-content/uploads/2025/12/Landis-Harry-Larry-featured-image.png
END:VEVENT
BEGIN:VEVENT
DTSTART;TZID=America/New_York:20260201T120000
DTEND;TZID=America/New_York:20260201T130000
DTSTAMP:20260421T143131
CREATED:20260114T173203Z
LAST-MODIFIED:20260204T150848Z
UID:10005211-1769947200-1769950800@creativealliance.org
SUMMARY:Capoeira
DESCRIPTION:Capoeira is a dynamic Brazilian art form that blends self-defense\, acrobatics\, and dance. It helps improve balance\, coordination\, and physical strength while introducing participants to a different language and culture. Practiced with music and rhythm\, Capoeira encourages learning through movement in an engaging and energetic way. Each class in this series is beginner-friendly and family-friendly\, so bring the whole family and enjoy moving together! \nWhere: Creativity Center\, 3137 Eastern Ave. Baltimore MD 21224 \nClass: Sundays | Feb. 1 – Feb. 22 | 12:00 PM – 1:00 PM \nAge Range: 7+. All children must be accompanied by an adult. Beginners welcome! \nCost: $20 per session\, $17 members\, 4-class pack $70 \nMaterials: Comfortable dance\, exercise or martial arts clothing. Socks or bare feet (no street shoes) \nInstructor Bio: \nMestre Bohasha has been teaching capoeira in the U.S. since the early 2000s. Bohasha has extensive experience teaching diverse groups representing many ages\, abilities and cultural backgrounds. In addition to teaching the martial art and dance aspects of capoeira\, Bohasha is passionate about sharing the music\, language and history of capoeira with his students. His skills and positive\, energetic personality keeps his students engaged and motivated as they explore the beautiful art form of capoeira. \n4-Class Pass \nJoin us for all 4 sessions and save $10! Add one ticket for each of the 4 dates to your cart and use code GINGA at the discount page to get the full series for just $70. \nNote: Discount valid only when purchasing 4 tickets in a single transaction. Please make sure you select one ticket for each unique date. Offer expires 2/1/2026. Subject to availability.
URL:https://creativealliance.org/event/capoeira-with-bohasha-porto/2026-02-01/
CATEGORIES:Classes
ATTACH;FMTTYPE=image/jpeg:https://creativealliance.org/wp-content/uploads/2026/01/Capoeira-with-Bohasha-Porto-e1768411776320.jpg
END:VEVENT
BEGIN:VEVENT
DTSTART;TZID=America/New_York:20260201T190000
DTEND;TZID=America/New_York:20260201T190000
DTSTAMP:20260421T143131
CREATED:20251010T160014Z
LAST-MODIFIED:20260207T091544Z
UID:10004849-1769972400-1769972400@creativealliance.org
SUMMARY:Sangjaru - Korean Folk Gypsy Swing
DESCRIPTION:https://creativealliance.my.salesforce-sites.com/ticket/#/instances/a0FUp00000FDY1dMAH
URL:https://creativealliance.org/event/sangjaru-korean-folk-gypsy-swing/
CATEGORIES:Music, Performance & Film,Streaming
ATTACH;FMTTYPE=image/jpeg:https://creativealliance.org/wp-content/uploads/2025/10/MAIN-4-sangjaru-photo-by-Seokhyun-Jang-1-scaled.jpg
END:VEVENT
BEGIN:VEVENT
DTSTART;TZID=America/New_York:20260209T180000
DTEND;TZID=America/New_York:20260209T220000
DTSTAMP:20260421T143131
CREATED:20260128T170132Z
LAST-MODIFIED:20260130T074021Z
UID:10005512-1770660000-1770674400@creativealliance.org
SUMMARY:Break My Game
DESCRIPTION:https://creativealliance.my.salesforce-sites.com/ticket/#/events/a0SUp0000091ojxMAAhttps://nam12.safelinks.protection.outlook.com/?url=https%3A%2F%2Fwww.eventbrite.com%2Fe%2Fbreak-my-game-playtesting-baltimore-md-creative-alliance-registration-1981396431063&data=05%7C02%7Cvic%40creativealliance.org%7C48fa5d2204de43a2c53d08de5e877ecf%7Cfda8bb83610941b990542cf55a36bf72%7C1%7C0%7C639052133327839225%7CUnknown%7CTWFpbGZsb3d8eyJFbXB0eU1hcGkiOnRydWUsIlYiOiIwLjAuMDAwMCIsIlAiOiJXaW4zMiIsIkFOIjoiTWFpbCIsIldUIjoyfQ%3D%3D%7C0%7C%7C%7C&sdata=iQZ51GqnIXHo5mbuUS%2Bm%2FMnnFD%2Be0VS9CJa8mKaFBRE%3D&reserved=0
URL:https://creativealliance.org/event/break-my-game/2026-02-09/
CATEGORIES:Meeting - Public
ATTACH;FMTTYPE=image/png:https://creativealliance.org/wp-content/uploads/2026/01/BMG_CreativeAlliance_Square_Banner-scaled.png
END:VEVENT
BEGIN:VEVENT
DTSTART;TZID=America/New_York:20260327T180000
DTEND;TZID=America/New_York:20260327T193000
DTSTAMP:20260421T143131
CREATED:20260129T233916Z
LAST-MODIFIED:20260130T073457Z
UID:10005593-1774634400-1774639800@creativealliance.org
SUMMARY:Shake\, Stir\, Sip: Spring Edition
DESCRIPTION:https://creativealliance.my.salesforce-sites.com/ticket/#/events/a0SUp000008t5fBMAQ \nService Fee waived for members
URL:https://creativealliance.org/event/shake-stir-sip-spring-edition/
CATEGORIES:Classes
ATTACH;FMTTYPE=image/jpeg:https://creativealliance.org/wp-content/uploads/2024/11/F70C2B62-7F87-4191-B504-6C8214C6A87C-e1731460874865.jpg
END:VEVENT
BEGIN:VEVENT
DTSTART;TZID=America/New_York:20260328T193000
DTEND;TZID=America/New_York:20260328T193000
DTSTAMP:20260421T143131
CREATED:20260127T143047Z
LAST-MODIFIED:20260320T204050Z
UID:10005268-1774726200-1774726200@creativealliance.org
SUMMARY:Can I Kick It?: Cleopatra Jones
DESCRIPTION:
URL:https://creativealliance.org/event/can-i-kick-it-cleopatra-jones/
CATEGORIES:Music, Performance & Film
ATTACH;FMTTYPE=image/png:https://creativealliance.org/wp-content/uploads/2026/01/horizontal_poster_cleopatra_v2.png
END:VEVENT
BEGIN:VEVENT
DTSTART;TZID=America/New_York:20260329T190000
DTEND;TZID=America/New_York:20260329T204500
DTSTAMP:20260421T143131
CREATED:20260209T235526Z
LAST-MODIFIED:20260210T000234Z
UID:10005656-1774810800-1774817100@creativealliance.org
SUMMARY:David Nihill: Taking Tangents Tour
DESCRIPTION:
URL:https://creativealliance.org/event/david-nihill-taking-tangents-tour/
CATEGORIES:Music, Performance & Film
ATTACH;FMTTYPE=image/jpeg:https://creativealliance.org/wp-content/uploads/2026/02/L3046.jpg
END:VEVENT
BEGIN:VEVENT
DTSTART;TZID=America/New_York:20260330T083000
DTEND;TZID=America/New_York:20260330T160000
DTSTAMP:20260421T143131
CREATED:20260122T195038Z
LAST-MODIFIED:20260130T061527Z
UID:10005248-1774859400-1774886400@creativealliance.org
SUMMARY:Spring Break Camp 2026
DESCRIPTION:https://creativealliance.my.salesforce-sites.com/ticket/#/instances/a0FUp000000uVIrMAM \nhttps://creativealliance.my.salesforce-sites.com/ticket/#/instances/a0F4W00000b3qdrUAA
URL:https://creativealliance.org/event/spring-break-camp-2026/2026-03-30/
CATEGORIES:Classes,Youth & Family
ATTACH;FMTTYPE=image/jpeg:https://creativealliance.org/wp-content/uploads/2026/01/Spring-Break-Camp-1-e1769111325927.jpg
END:VEVENT
BEGIN:VEVENT
DTSTART;TZID=America/New_York:20260402T193000
DTEND;TZID=America/New_York:20260402T193000
DTSTAMP:20260421T143131
CREATED:20260219T150505Z
LAST-MODIFIED:20260326T185515Z
UID:10005670-1775158200-1775158200@creativealliance.org
SUMMARY:Sally Baby's Silver Dollars
DESCRIPTION:
URL:https://creativealliance.org/event/sallybabyssilverdollars/
CATEGORIES:Music, Performance & Film,Streaming
ATTACH;FMTTYPE=image/jpeg:https://creativealliance.org/wp-content/uploads/2025/07/Sally-Babys-Silver-Dollars-full-band.jpg
END:VEVENT
BEGIN:VEVENT
DTSTART;TZID=America/New_York:20260403T180000
DTEND;TZID=America/New_York:20260403T210000
DTSTAMP:20260421T143131
CREATED:20260129T234956Z
LAST-MODIFIED:20260301T164347Z
UID:10005594-1775239200-1775250000@creativealliance.org
SUMMARY:Mud to Music: Ceramic Flute-Making | In English
DESCRIPTION:https://creativealliance.my.salesforce-sites.com/ticket/#/instances/a0FUp00000IpIN7MAN \nhttps://creativealliance.my.salesforce-sites.com/ticket/#/events/a0S4W00000rKSoBUAW
URL:https://creativealliance.org/event/mud-to-music-ceramic-flute-making/
CATEGORIES:Classes
ATTACH;FMTTYPE=image/jpeg:https://creativealliance.org/wp-content/uploads/2023/11/Ph-MSAC.org-┬⌐-1-scaled.jpg
END:VEVENT
BEGIN:VEVENT
DTSTART;TZID=America/New_York:20260407T183000
DTEND;TZID=America/New_York:20260407T213000
DTSTAMP:20260421T143131
CREATED:20260128T012322Z
LAST-MODIFIED:20260317T184335Z
UID:10005272-1775586600-1775597400@creativealliance.org
SUMMARY:Art Nouveau Figure Drawing
DESCRIPTION:
URL:https://creativealliance.org/event/art-nouveau-figure-drawing-with-lydia-ethem/2026-04-07/
CATEGORIES:Classes
ATTACH;FMTTYPE=image/jpeg:https://creativealliance.org/wp-content/uploads/2025/08/20221102_162837-scaled.jpg
END:VEVENT
BEGIN:VEVENT
DTSTART;TZID=America/New_York:20260408T200000
DTEND;TZID=America/New_York:20260408T200000
DTSTAMP:20260421T143131
CREATED:20260223T163026Z
LAST-MODIFIED:20260331T173719Z
UID:10005597-1775678400-1775678400@creativealliance.org
SUMMARY:Interactive Movie Night: Empire Records
DESCRIPTION:
URL:https://creativealliance.org/event/interactive-movie-night-empire-records/
CATEGORIES:Music, Performance & Film
ATTACH;FMTTYPE=image/jpeg:https://creativealliance.org/wp-content/uploads/2026/01/empire-records_thumb.jpg
END:VEVENT
BEGIN:VEVENT
DTSTART;TZID=America/New_York:20260409T193000
DTEND;TZID=America/New_York:20260409T193000
DTSTAMP:20260421T143131
CREATED:20251010T160045Z
LAST-MODIFIED:20260325T143824Z
UID:10004857-1775763000-1775763000@creativealliance.org
SUMMARY:Alash
DESCRIPTION:
URL:https://creativealliance.org/event/alash-3/
CATEGORIES:Music, Performance & Film,Streaming
ATTACH;FMTTYPE=image/png:https://creativealliance.org/wp-content/uploads/2025/10/ALASH_SocialsHero-16x9-1.png
END:VEVENT
BEGIN:VEVENT
DTSTART;VALUE=DATE:20260410
DTEND;VALUE=DATE:20260412
DTSTAMP:20260421T143131
CREATED:20260213T174930Z
LAST-MODIFIED:20260406T202754Z
UID:10005663-1775779200-1775951999@creativealliance.org
SUMMARY:Baltimore Irish Trad Fest 2026
DESCRIPTION:Essential Tease instructors Jacqueline Boxx\, Tempete La Coeur\, and Ruby Rockafella are proud to present eight brand-spanking new burlesque performers! After completing an 8-week-long workshop that transformed them from the inside out\, these students are ready to bring their acts and assets to the stage for the first time ever! Featuring guest MC\, Jennifer Eden\, special performances by Essential Tease instructors\, and live ASL interpretation by Billy Sanders! The show will stream virtually as well as being live on stage!
URL:https://creativealliance.org/event/baltimore-irish-trad-fest-2026/
CATEGORIES:Music, Performance & Film
ATTACH;FMTTYPE=image/jpeg:https://creativealliance.org/wp-content/uploads/2026/02/Trad-Fest-2026-Banner-scaled.jpg
END:VEVENT
BEGIN:VEVENT
DTSTART;TZID=America/New_York:20260411T120000
DTEND;TZID=America/New_York:20260411T160000
DTSTAMP:20260421T143131
CREATED:20260213T171009Z
LAST-MODIFIED:20260224T153520Z
UID:10005661-1775908800-1775923200@creativealliance.org
SUMMARY:The BIG Baltimore Kite Fest
DESCRIPTION:
URL:https://creativealliance.org/event/the-big-baltimore-kite-fest/
CATEGORIES:Festivals & Community,Signature Events
ATTACH;FMTTYPE=image/png:https://creativealliance.org/wp-content/uploads/2026/02/Big_Baltimore_Kite_Fest-scaled.png
END:VEVENT
BEGIN:VEVENT
DTSTART;TZID=America/New_York:20260412T170000
DTEND;TZID=America/New_York:20260412T193000
DTSTAMP:20260421T143131
CREATED:20251010T160009Z
LAST-MODIFIED:20260410T200711Z
UID:10004847-1776013200-1776022200@creativealliance.org
SUMMARY:Baltimore Mandolin Orchestra Centennial 2026
DESCRIPTION:Baltimore Mandolin Orch Centennial
URL:https://creativealliance.org/event/baltimore-mandolin-orchestra-centennial-2026/
CATEGORIES:Music, Performance & Film,Streaming,Youth & Family
ATTACH;FMTTYPE=image/jpeg:https://creativealliance.org/wp-content/uploads/2024/11/image_1236502912.jpg
END:VEVENT
BEGIN:VEVENT
DTSTART;TZID=America/New_York:20260413T193000
DTEND;TZID=America/New_York:20260413T193000
DTSTAMP:20260421T143131
CREATED:20260312T145554Z
LAST-MODIFIED:20260317T144640Z
UID:10005790-1776108600-1776108600@creativealliance.org
SUMMARY:Magdalena
DESCRIPTION:Baltimore Mandolin Orch Centennial
URL:https://creativealliance.org/event/magdalena/
CATEGORIES:Music, Performance & Film,Streaming,Youth & Family
ATTACH;FMTTYPE=image/png:https://creativealliance.org/wp-content/uploads/2026/03/Magdelena_SocialsHero-16x9-1.png
END:VEVENT
BEGIN:VEVENT
DTSTART;TZID=America/New_York:20260417T190000
DTEND;TZID=America/New_York:20260417T190000
DTSTAMP:20260421T143131
CREATED:20260218T143040Z
LAST-MODIFIED:20260416T100121Z
UID:10005666-1776452400-1776452400@creativealliance.org
SUMMARY:Mortified Baltimore: Spring Break 2026
DESCRIPTION:
URL:https://creativealliance.org/event/mortified-baltimore-spring-break-2026/
CATEGORIES:Music, Performance & Film,Streaming
ATTACH;FMTTYPE=image/png:https://creativealliance.org/wp-content/uploads/2026/02/Mortified_Spring_Break_SocialsHero-16x9-1.png
END:VEVENT
BEGIN:VEVENT
DTSTART;TZID=America/New_York:20260418T173000
DTEND;TZID=America/New_York:20260418T203000
DTSTAMP:20260421T143131
CREATED:20260130T055951Z
LAST-MODIFIED:20260406T222447Z
UID:10005632-1776533400-1776544200@creativealliance.org
SUMMARY:Wondering & Wandering: Photo Workshop
DESCRIPTION:https://creativealliance.my.salesforce-sites.com/ticket/#/instances/a0FUp00000IpIYPMA3 \nhttps://creativealliance.my.salesforce-sites.com/ticket/#/events/a0SUp000008t5fBMAQ \nService Fee waived for members
URL:https://creativealliance.org/event/wondering-wandering-photo-workshop/
CATEGORIES:Classes
ATTACH;FMTTYPE=image/jpeg:https://creativealliance.org/wp-content/uploads/2026/01/Lyon-Photo-Class-scaled.jpg
END:VEVENT
BEGIN:VEVENT
DTSTART;TZID=America/New_York:20260419T130000
DTEND;TZID=America/New_York:20260419T143000
DTSTAMP:20260421T143131
CREATED:20260130T051459Z
LAST-MODIFIED:20260406T192308Z
UID:10005598-1776603600-1776609000@creativealliance.org
SUMMARY:Spring (Herbal) Tea Lab
DESCRIPTION:https://creativealliance.my.salesforce-sites.com/ticket/#/events/a0SUp000008t5fBMAQ \nService Fee waived for members
URL:https://creativealliance.org/event/spring-herbal-tea-lab-blend-for-nourishment-focus-seasonal-ease/
CATEGORIES:Classes
ATTACH;FMTTYPE=image/jpeg:https://creativealliance.org/wp-content/uploads/2026/01/tea-lab-herbal-thumbnail-scaled.jpg
END:VEVENT
BEGIN:VEVENT
DTSTART;TZID=America/New_York:20260419T193000
DTEND;TZID=America/New_York:20260419T193000
DTSTAMP:20260421T143131
CREATED:20251010T160047Z
LAST-MODIFIED:20260410T201820Z
UID:10004858-1776627000-1776627000@creativealliance.org
SUMMARY:The Orchestra of Indigenous Instruments and New Technologies
DESCRIPTION:
URL:https://creativealliance.org/event/the-orchestra-of-indigenous-instruments-and-new-technologies/
CATEGORIES:Music, Performance & Film,Streaming
ATTACH;FMTTYPE=image/png:https://creativealliance.org/wp-content/uploads/2025/10/Indigenous_SocialsHero-16x9-1.png
END:VEVENT
BEGIN:VEVENT
DTSTART;TZID=America/New_York:20260420T180000
DTEND;TZID=America/New_York:20260420T200000
DTSTAMP:20260421T143131
CREATED:20260226T151056Z
LAST-MODIFIED:20260407T203221Z
UID:10005763-1776708000-1776715200@creativealliance.org
SUMMARY:Vibrant Storytelling: Writing Techniques for Artists
DESCRIPTION:https://creativealliance.my.salesforce-sites.com/ticket/#/events/a0SUp000008t5fBMAQ \nService Fee waived for members
URL:https://creativealliance.org/event/vibrant-storytelling-writing-techniques-for-artists/
CATEGORIES:Classes
ATTACH;FMTTYPE=image/png:https://creativealliance.org/wp-content/uploads/2026/02/Vibrant_Storytelling_UpdateArtboard-1-3.png
END:VEVENT
BEGIN:VEVENT
DTSTART;TZID=America/New_York:20260420T190000
DTEND;TZID=America/New_York:20260420T190000
DTSTAMP:20260421T143131
CREATED:20260326T195352Z
LAST-MODIFIED:20260326T195352Z
UID:10005870-1776711600-1776711600@creativealliance.org
SUMMARY:Workshop: "Traditional and new Technologies"
DESCRIPTION:
URL:https://creativealliance.org/event/workshop-traditional-and-new-technologies/
CATEGORIES:Music, Performance & Film,Streaming
ATTACH;FMTTYPE=image/jpeg:https://creativealliance.org/wp-content/uploads/2025/10/Ochestra-in-Concert-scaled.jpeg
END:VEVENT
BEGIN:VEVENT
DTSTART;TZID=America/New_York:20260422T183000
DTEND;TZID=America/New_York:20260422T203000
DTSTAMP:20260421T143131
CREATED:20260416T102246Z
LAST-MODIFIED:20260416T102447Z
UID:10005920-1776882600-1776889800@creativealliance.org
SUMMARY:Charm City Connections: An Improv Welcome to Baltimore
DESCRIPTION:https://creativealliance.my.salesforce-sites.com/ticket/#/instances/a0FUp00000KoGhBMAV
URL:https://creativealliance.org/event/charm-city-connections-an-improv-welcome-to-baltimore/
CATEGORIES:Classes
ATTACH;FMTTYPE=image/png:https://creativealliance.org/wp-content/uploads/2026/04/charm-city-connections-scaled.png
END:VEVENT
BEGIN:VEVENT
DTSTART;TZID=America/New_York:20260423T180000
DTEND;TZID=America/New_York:20260423T200000
DTSTAMP:20260421T143131
CREATED:20260129T224935Z
LAST-MODIFIED:20260401T111154Z
UID:10005578-1776967200-1776974400@creativealliance.org
SUMMARY:Intro to Grant Writing Basics
DESCRIPTION:https://creativealliance.my.salesforce-sites.com/ticket/#/events/a0SUp000008t5fBMAQ \nService Fee waived for members
URL:https://creativealliance.org/event/intro-to-grant-writing-basics/
CATEGORIES:Classes
ATTACH;FMTTYPE=image/jpeg:https://creativealliance.org/wp-content/uploads/2026/01/OARA-Logo.jpeg
END:VEVENT
BEGIN:VEVENT
DTSTART;TZID=America/New_York:20260423T190000
DTEND;TZID=America/New_York:20260423T190000
DTSTAMP:20260421T143131
CREATED:20260325T151152Z
LAST-MODIFIED:20260420T230240Z
UID:10005872-1776970800-1776970800@creativealliance.org
SUMMARY:Film Screening: The Many Americas Series
DESCRIPTION:
URL:https://creativealliance.org/event/film-screening-the-many-americas-series/
CATEGORIES:Music, Performance & Film
END:VEVENT
BEGIN:VEVENT
DTSTART;TZID=America/New_York:20260424T190000
DTEND;TZID=America/New_York:20260424T230000
DTSTAMP:20260421T143131
CREATED:20260305T164950Z
LAST-MODIFIED:20260421T162123Z
UID:10005787-1777057200-1777071600@creativealliance.org
SUMMARY:Big Meadow
DESCRIPTION:
URL:https://creativealliance.org/event/big-meadow/
CATEGORIES:Music, Performance & Film
ATTACH;FMTTYPE=image/png:https://creativealliance.org/wp-content/uploads/2026/03/Big_Meadow_SocialsHero-16x9-1.png
END:VEVENT
END:VCALENDAR