BEGIN:VCALENDAR
VERSION:2.0
PRODID:-//Creative Alliance - ECPv6.14.2//NONSGML v1.0//EN
CALSCALE:GREGORIAN
METHOD:PUBLISH
X-WR-CALNAME:Creative Alliance
X-ORIGINAL-URL:https://creativealliance.org
X-WR-CALDESC:Events for Creative Alliance
REFRESH-INTERVAL;VALUE=DURATION:PT1H
X-Robots-Tag:noindex
X-PUBLISHED-TTL:PT1H
BEGIN:VTIMEZONE
TZID:America/New_York
BEGIN:DAYLIGHT
TZOFFSETFROM:-0500
TZOFFSETTO:-0400
TZNAME:EDT
DTSTART:20260308T070000
END:DAYLIGHT
BEGIN:STANDARD
TZOFFSETFROM:-0400
TZOFFSETTO:-0500
TZNAME:EST
DTSTART:20261101T060000
END:STANDARD
END:VTIMEZONE
BEGIN:VEVENT
DTSTART;TZID=America/New_York:20260331T083000
DTEND;TZID=America/New_York:20260331T160000
DTSTAMP:20260425T093950
CREATED:20260122T195038Z
LAST-MODIFIED:20260130T061527Z
UID:10005637-1774945800-1774972800@creativealliance.org
SUMMARY:Spring Break Camp 2026
DESCRIPTION:https://creativealliance.my.salesforce-sites.com/ticket/#/instances/a0FUp000000uVIrMAM \nhttps://creativealliance.my.salesforce-sites.com/ticket/#/instances/a0F4W00000b3qdrUAA
URL:https://creativealliance.org/event/spring-break-camp-2026/2026-03-31/
CATEGORIES:Classes,Youth & Family
ATTACH;FMTTYPE=image/jpeg:https://creativealliance.org/wp-content/uploads/2026/01/Spring-Break-Camp-1-e1769111325927.jpg
END:VEVENT
BEGIN:VEVENT
DTSTART;TZID=America/New_York:20260401T083000
DTEND;TZID=America/New_York:20260401T160000
DTSTAMP:20260425T093950
CREATED:20260122T195038Z
LAST-MODIFIED:20260130T061527Z
UID:10005249-1775032200-1775059200@creativealliance.org
SUMMARY:Spring Break Camp 2026
DESCRIPTION:https://creativealliance.my.salesforce-sites.com/ticket/#/instances/a0FUp000000uVIrMAM \nhttps://creativealliance.my.salesforce-sites.com/ticket/#/instances/a0F4W00000b3qdrUAA
URL:https://creativealliance.org/event/spring-break-camp-2026/2026-04-01/
CATEGORIES:Classes,Youth & Family
ATTACH;FMTTYPE=image/jpeg:https://creativealliance.org/wp-content/uploads/2026/01/Spring-Break-Camp-1-e1769111325927.jpg
END:VEVENT
BEGIN:VEVENT
DTSTART;TZID=America/New_York:20260402T083000
DTEND;TZID=America/New_York:20260402T160000
DTSTAMP:20260425T093950
CREATED:20260122T195038Z
LAST-MODIFIED:20260130T061527Z
UID:10005250-1775118600-1775145600@creativealliance.org
SUMMARY:Spring Break Camp 2026
DESCRIPTION:https://creativealliance.my.salesforce-sites.com/ticket/#/instances/a0FUp000000uVIrMAM \nhttps://creativealliance.my.salesforce-sites.com/ticket/#/instances/a0F4W00000b3qdrUAA
URL:https://creativealliance.org/event/spring-break-camp-2026/2026-04-02/
CATEGORIES:Classes,Youth & Family
ATTACH;FMTTYPE=image/jpeg:https://creativealliance.org/wp-content/uploads/2026/01/Spring-Break-Camp-1-e1769111325927.jpg
END:VEVENT
BEGIN:VEVENT
DTSTART;TZID=America/New_York:20260402T183000
DTEND;TZID=America/New_York:20260402T183000
DTSTAMP:20260425T093950
CREATED:20260129T233018Z
LAST-MODIFIED:20260205T211931Z
UID:10005586-1775154600-1775154600@creativealliance.org
SUMMARY:Belly Dance with Naimah Dances | Spring
DESCRIPTION:https://creativealliance.my.salesforce-sites.com/ticket/#/events/a0SUp00000919KDMAYhttps://creativealliance.my.salesforce-sites.com/ticket/#/events/a0SUp00000919KDMAY
URL:https://creativealliance.org/event/belly-dance-with-naimah-dances-spring/2026-04-02/
CATEGORIES:Classes
ATTACH;FMTTYPE=image/jpeg:https://creativealliance.org/wp-content/uploads/2024/05/311306492_5507038992708235_2616857625733080843_n.jpg
END:VEVENT
BEGIN:VEVENT
DTSTART;TZID=America/New_York:20260402T193000
DTEND;TZID=America/New_York:20260402T193000
DTSTAMP:20260425T093950
CREATED:20260219T150505Z
LAST-MODIFIED:20260326T185515Z
UID:10005670-1775158200-1775158200@creativealliance.org
SUMMARY:Sally Baby's Silver Dollars
DESCRIPTION:
URL:https://creativealliance.org/event/sallybabyssilverdollars/
CATEGORIES:Music, Performance & Film,Streaming
ATTACH;FMTTYPE=image/jpeg:https://creativealliance.org/wp-content/uploads/2025/07/Sally-Babys-Silver-Dollars-full-band.jpg
END:VEVENT
BEGIN:VEVENT
DTSTART;TZID=America/New_York:20260403T083000
DTEND;TZID=America/New_York:20260403T160000
DTSTAMP:20260425T093950
CREATED:20260122T195038Z
LAST-MODIFIED:20260130T061527Z
UID:10005251-1775205000-1775232000@creativealliance.org
SUMMARY:Spring Break Camp 2026
DESCRIPTION:https://creativealliance.my.salesforce-sites.com/ticket/#/instances/a0FUp000000uVIrMAM \nhttps://creativealliance.my.salesforce-sites.com/ticket/#/instances/a0F4W00000b3qdrUAA
URL:https://creativealliance.org/event/spring-break-camp-2026/2026-04-03/
CATEGORIES:Classes,Youth & Family
ATTACH;FMTTYPE=image/jpeg:https://creativealliance.org/wp-content/uploads/2026/01/Spring-Break-Camp-1-e1769111325927.jpg
END:VEVENT
BEGIN:VEVENT
DTSTART;TZID=America/New_York:20260403T180000
DTEND;TZID=America/New_York:20260403T210000
DTSTAMP:20260425T093950
CREATED:20260129T234956Z
LAST-MODIFIED:20260301T164347Z
UID:10005594-1775239200-1775250000@creativealliance.org
SUMMARY:Mud to Music: Ceramic Flute-Making | In English
DESCRIPTION:https://creativealliance.my.salesforce-sites.com/ticket/#/instances/a0FUp00000IpIN7MAN \nhttps://creativealliance.my.salesforce-sites.com/ticket/#/events/a0S4W00000rKSoBUAW
URL:https://creativealliance.org/event/mud-to-music-ceramic-flute-making/
CATEGORIES:Classes
ATTACH;FMTTYPE=image/jpeg:https://creativealliance.org/wp-content/uploads/2023/11/Ph-MSAC.org-┬⌐-1-scaled.jpg
END:VEVENT
BEGIN:VEVENT
DTSTART;TZID=America/New_York:20260404T110000
DTEND;TZID=America/New_York:20260404T110000
DTSTAMP:20260425T093950
CREATED:20260112T152449Z
LAST-MODIFIED:20260420T172102Z
UID:10005088-1775300400-1775300400@creativealliance.org
SUMMARY:Shake Out Your Sillies
DESCRIPTION:
URL:https://creativealliance.org/event/shake-out-your-sillies/2026-04-04/
CATEGORIES:Classes,Youth & Family
ATTACH;FMTTYPE=image/png:https://creativealliance.org/wp-content/uploads/2023/04/Screenshot-2023-07-14-at-10.48.14-PM-e1747675834782.png
END:VEVENT
BEGIN:VEVENT
DTSTART;TZID=America/New_York:20260404T133000
DTEND;TZID=America/New_York:20260404T163000
DTSTAMP:20260425T093950
CREATED:20250702T132900Z
LAST-MODIFIED:20260226T045852Z
UID:10005718-1775309400-1775320200@creativealliance.org
SUMMARY:B'more Yoyo Club
DESCRIPTION:
URL:https://creativealliance.org/event/bmore-yoyo-club-2/2026-04-04/
CATEGORIES:Classes
ATTACH;FMTTYPE=image/jpeg:https://creativealliance.org/wp-content/uploads/2024/08/ABYoYo781-scaled.jpg
END:VEVENT
BEGIN:VEVENT
DTSTART;TZID=America/New_York:20260407T183000
DTEND;TZID=America/New_York:20260407T213000
DTSTAMP:20260425T093950
CREATED:20260128T012322Z
LAST-MODIFIED:20260317T184335Z
UID:10005272-1775586600-1775597400@creativealliance.org
SUMMARY:Art Nouveau Figure Drawing
DESCRIPTION:
URL:https://creativealliance.org/event/art-nouveau-figure-drawing-with-lydia-ethem/2026-04-07/
CATEGORIES:Classes
ATTACH;FMTTYPE=image/jpeg:https://creativealliance.org/wp-content/uploads/2025/08/20221102_162837-scaled.jpg
END:VEVENT
BEGIN:VEVENT
DTSTART;TZID=America/New_York:20260408T200000
DTEND;TZID=America/New_York:20260408T200000
DTSTAMP:20260425T093950
CREATED:20260223T163026Z
LAST-MODIFIED:20260331T173719Z
UID:10005597-1775678400-1775678400@creativealliance.org
SUMMARY:Interactive Movie Night: Empire Records
DESCRIPTION:
URL:https://creativealliance.org/event/interactive-movie-night-empire-records/
CATEGORIES:Music, Performance & Film
ATTACH;FMTTYPE=image/jpeg:https://creativealliance.org/wp-content/uploads/2026/01/empire-records_thumb.jpg
END:VEVENT
BEGIN:VEVENT
DTSTART;TZID=America/New_York:20260409T183000
DTEND;TZID=America/New_York:20260409T183000
DTSTAMP:20260425T093950
CREATED:20260129T233018Z
LAST-MODIFIED:20260205T211931Z
UID:10005587-1775759400-1775759400@creativealliance.org
SUMMARY:Belly Dance with Naimah Dances | Spring
DESCRIPTION:https://creativealliance.my.salesforce-sites.com/ticket/#/events/a0SUp00000919KDMAYhttps://creativealliance.my.salesforce-sites.com/ticket/#/events/a0SUp00000919KDMAY
URL:https://creativealliance.org/event/belly-dance-with-naimah-dances-spring/2026-04-09/
CATEGORIES:Classes
ATTACH;FMTTYPE=image/jpeg:https://creativealliance.org/wp-content/uploads/2024/05/311306492_5507038992708235_2616857625733080843_n.jpg
END:VEVENT
BEGIN:VEVENT
DTSTART;TZID=America/New_York:20260409T183000
DTEND;TZID=America/New_York:20260409T183000
DTSTAMP:20260425T093950
CREATED:20260130T060639Z
LAST-MODIFIED:20260130T074212Z
UID:10005636-1775759400-1775759400@creativealliance.org
SUMMARY:Learning to Live Fully: Introduction to Mindfulness Meditation
DESCRIPTION:
URL:https://creativealliance.org/event/learning-to-live-fully-introduction-to-mindfulness-meditation-2-2/2026-04-09/
CATEGORIES:Classes,Festivals & Community
ATTACH;FMTTYPE=image/png:https://creativealliance.org/wp-content/uploads/2023/10/Aprendiendo-a-Vivir-e1697466674527.png
END:VEVENT
BEGIN:VEVENT
DTSTART;TZID=America/New_York:20260409T193000
DTEND;TZID=America/New_York:20260409T193000
DTSTAMP:20260425T093950
CREATED:20251010T160045Z
LAST-MODIFIED:20260325T143824Z
UID:10004857-1775763000-1775763000@creativealliance.org
SUMMARY:Alash
DESCRIPTION:
URL:https://creativealliance.org/event/alash-3/
CATEGORIES:Music, Performance & Film,Streaming
ATTACH;FMTTYPE=image/png:https://creativealliance.org/wp-content/uploads/2025/10/ALASH_SocialsHero-16x9-1.png
END:VEVENT
BEGIN:VEVENT
DTSTART;VALUE=DATE:20260410
DTEND;VALUE=DATE:20260412
DTSTAMP:20260425T093950
CREATED:20260213T174930Z
LAST-MODIFIED:20260406T202754Z
UID:10005663-1775779200-1775951999@creativealliance.org
SUMMARY:Baltimore Irish Trad Fest 2026
DESCRIPTION:Essential Tease instructors Jacqueline Boxx\, Tempete La Coeur\, and Ruby Rockafella are proud to present eight brand-spanking new burlesque performers! After completing an 8-week-long workshop that transformed them from the inside out\, these students are ready to bring their acts and assets to the stage for the first time ever! Featuring guest MC\, Jennifer Eden\, special performances by Essential Tease instructors\, and live ASL interpretation by Billy Sanders! The show will stream virtually as well as being live on stage!
URL:https://creativealliance.org/event/baltimore-irish-trad-fest-2026/
CATEGORIES:Music, Performance & Film
ATTACH;FMTTYPE=image/jpeg:https://creativealliance.org/wp-content/uploads/2026/02/Trad-Fest-2026-Banner-scaled.jpg
END:VEVENT
BEGIN:VEVENT
DTSTART;TZID=America/New_York:20260411T110000
DTEND;TZID=America/New_York:20260411T110000
DTSTAMP:20260425T093950
CREATED:20260112T152449Z
LAST-MODIFIED:20260420T172102Z
UID:10005089-1775905200-1775905200@creativealliance.org
SUMMARY:Shake Out Your Sillies
DESCRIPTION:
URL:https://creativealliance.org/event/shake-out-your-sillies/2026-04-11/
CATEGORIES:Classes,Youth & Family
ATTACH;FMTTYPE=image/png:https://creativealliance.org/wp-content/uploads/2023/04/Screenshot-2023-07-14-at-10.48.14-PM-e1747675834782.png
END:VEVENT
BEGIN:VEVENT
DTSTART;TZID=America/New_York:20260411T120000
DTEND;TZID=America/New_York:20260411T160000
DTSTAMP:20260425T093950
CREATED:20260213T171009Z
LAST-MODIFIED:20260224T153520Z
UID:10005661-1775908800-1775923200@creativealliance.org
SUMMARY:The BIG Baltimore Kite Fest
DESCRIPTION:
URL:https://creativealliance.org/event/the-big-baltimore-kite-fest/
CATEGORIES:Festivals & Community,Signature Events
ATTACH;FMTTYPE=image/png:https://creativealliance.org/wp-content/uploads/2026/02/Big_Baltimore_Kite_Fest-scaled.png
END:VEVENT
BEGIN:VEVENT
DTSTART;TZID=America/New_York:20260411T133000
DTEND;TZID=America/New_York:20260411T143000
DTSTAMP:20260425T093950
CREATED:20251218T160432Z
LAST-MODIFIED:20260420T172139Z
UID:10005012-1775914200-1775917800@creativealliance.org
SUMMARY:Indian Classical Dance - Bharatnatyam
DESCRIPTION:
URL:https://creativealliance.org/event/indian-classical-dance-bharatnatyam-with-jhu-shakti-2026/2026-04-11/
CATEGORIES:Classes
ATTACH;FMTTYPE=image/jpeg:https://creativealliance.org/wp-content/uploads/2025/10/thumbnail_RGBTV2025Origins2025April122025PAJ_9359.jpg
END:VEVENT
BEGIN:VEVENT
DTSTART;TZID=America/New_York:20260412T170000
DTEND;TZID=America/New_York:20260412T193000
DTSTAMP:20260425T093950
CREATED:20251010T160009Z
LAST-MODIFIED:20260410T200711Z
UID:10004847-1776013200-1776022200@creativealliance.org
SUMMARY:Baltimore Mandolin Orchestra Centennial 2026
DESCRIPTION:Baltimore Mandolin Orch Centennial
URL:https://creativealliance.org/event/baltimore-mandolin-orchestra-centennial-2026/
CATEGORIES:Music, Performance & Film,Streaming,Youth & Family
ATTACH;FMTTYPE=image/jpeg:https://creativealliance.org/wp-content/uploads/2024/11/image_1236502912.jpg
END:VEVENT
BEGIN:VEVENT
DTSTART;TZID=America/New_York:20260413T180000
DTEND;TZID=America/New_York:20260413T220000
DTSTAMP:20260425T093950
CREATED:20260128T170132Z
LAST-MODIFIED:20260130T074021Z
UID:10005514-1776103200-1776117600@creativealliance.org
SUMMARY:Break My Game
DESCRIPTION:https://creativealliance.my.salesforce-sites.com/ticket/#/events/a0SUp0000091ojxMAAhttps://nam12.safelinks.protection.outlook.com/?url=https%3A%2F%2Fwww.eventbrite.com%2Fe%2Fbreak-my-game-playtesting-baltimore-md-creative-alliance-registration-1981396431063&data=05%7C02%7Cvic%40creativealliance.org%7C48fa5d2204de43a2c53d08de5e877ecf%7Cfda8bb83610941b990542cf55a36bf72%7C1%7C0%7C639052133327839225%7CUnknown%7CTWFpbGZsb3d8eyJFbXB0eU1hcGkiOnRydWUsIlYiOiIwLjAuMDAwMCIsIlAiOiJXaW4zMiIsIkFOIjoiTWFpbCIsIldUIjoyfQ%3D%3D%7C0%7C%7C%7C&sdata=iQZ51GqnIXHo5mbuUS%2Bm%2FMnnFD%2Be0VS9CJa8mKaFBRE%3D&reserved=0
URL:https://creativealliance.org/event/break-my-game/2026-04-13/
CATEGORIES:Meeting - Public
ATTACH;FMTTYPE=image/png:https://creativealliance.org/wp-content/uploads/2026/01/BMG_CreativeAlliance_Square_Banner-scaled.png
END:VEVENT
BEGIN:VEVENT
DTSTART;TZID=America/New_York:20260413T193000
DTEND;TZID=America/New_York:20260413T193000
DTSTAMP:20260425T093950
CREATED:20260312T145554Z
LAST-MODIFIED:20260317T144640Z
UID:10005790-1776108600-1776108600@creativealliance.org
SUMMARY:Magdalena
DESCRIPTION:Baltimore Mandolin Orch Centennial
URL:https://creativealliance.org/event/magdalena/
CATEGORIES:Music, Performance & Film,Streaming,Youth & Family
ATTACH;FMTTYPE=image/png:https://creativealliance.org/wp-content/uploads/2026/03/Magdelena_SocialsHero-16x9-1.png
END:VEVENT
BEGIN:VEVENT
DTSTART;TZID=America/New_York:20260415T183000
DTEND;TZID=America/New_York:20260415T210000
DTSTAMP:20260425T093950
CREATED:20260415T161216Z
LAST-MODIFIED:20260415T161216Z
UID:10005909-1776277800-1776286800@creativealliance.org
SUMMARY:Classical Figure Drawing
DESCRIPTION:
URL:https://creativealliance.org/event/classical-figure-drawing-w-lydia-ethem-2-2-2/2026-04-15/
CATEGORIES:Classes
ATTACH;FMTTYPE=image/png:https://creativealliance.org/wp-content/uploads/2025/05/lydia.png
END:VEVENT
BEGIN:VEVENT
DTSTART;TZID=America/New_York:20260416T183000
DTEND;TZID=America/New_York:20260416T183000
DTSTAMP:20260425T093950
CREATED:20260129T233018Z
LAST-MODIFIED:20260205T211931Z
UID:10005588-1776364200-1776364200@creativealliance.org
SUMMARY:Belly Dance with Naimah Dances | Spring
DESCRIPTION:https://creativealliance.my.salesforce-sites.com/ticket/#/events/a0SUp00000919KDMAYhttps://creativealliance.my.salesforce-sites.com/ticket/#/events/a0SUp00000919KDMAY
URL:https://creativealliance.org/event/belly-dance-with-naimah-dances-spring/2026-04-16/
CATEGORIES:Classes
ATTACH;FMTTYPE=image/jpeg:https://creativealliance.org/wp-content/uploads/2024/05/311306492_5507038992708235_2616857625733080843_n.jpg
END:VEVENT
BEGIN:VEVENT
DTSTART;TZID=America/New_York:20260417T190000
DTEND;TZID=America/New_York:20260417T190000
DTSTAMP:20260425T093950
CREATED:20260218T143040Z
LAST-MODIFIED:20260416T100121Z
UID:10005666-1776452400-1776452400@creativealliance.org
SUMMARY:Mortified Baltimore: Spring Break 2026
DESCRIPTION:
URL:https://creativealliance.org/event/mortified-baltimore-spring-break-2026/
CATEGORIES:Music, Performance & Film,Streaming
ATTACH;FMTTYPE=image/png:https://creativealliance.org/wp-content/uploads/2026/02/Mortified_Spring_Break_SocialsHero-16x9-1.png
END:VEVENT
BEGIN:VEVENT
DTSTART;TZID=America/New_York:20260418T110000
DTEND;TZID=America/New_York:20260418T110000
DTSTAMP:20260425T093950
CREATED:20260112T152449Z
LAST-MODIFIED:20260420T172102Z
UID:10005090-1776510000-1776510000@creativealliance.org
SUMMARY:Shake Out Your Sillies
DESCRIPTION:
URL:https://creativealliance.org/event/shake-out-your-sillies/2026-04-18/
CATEGORIES:Classes,Youth & Family
ATTACH;FMTTYPE=image/png:https://creativealliance.org/wp-content/uploads/2023/04/Screenshot-2023-07-14-at-10.48.14-PM-e1747675834782.png
END:VEVENT
BEGIN:VEVENT
DTSTART;TZID=America/New_York:20260418T113000
DTEND;TZID=America/New_York:20260418T130000
DTSTAMP:20260425T093950
CREATED:20260306T175346Z
LAST-MODIFIED:20260410T175602Z
UID:10005869-1776511800-1776517200@creativealliance.org
SUMMARY:Danny Joe's Tree House
DESCRIPTION:
URL:https://creativealliance.org/event/danny-joes-treehouse/
CATEGORIES:Music, Performance & Film,Youth & Family
ATTACH;FMTTYPE=image/png:https://creativealliance.org/wp-content/uploads/2026/03/DJTH-LIVE_Danny_Joe_Tree_house-scaled.png
END:VEVENT
BEGIN:VEVENT
DTSTART;TZID=America/New_York:20260418T133000
DTEND;TZID=America/New_York:20260418T143000
DTSTAMP:20260425T093950
CREATED:20251218T160432Z
LAST-MODIFIED:20260420T172139Z
UID:10005013-1776519000-1776522600@creativealliance.org
SUMMARY:Indian Classical Dance - Bharatnatyam
DESCRIPTION:
URL:https://creativealliance.org/event/indian-classical-dance-bharatnatyam-with-jhu-shakti-2026/2026-04-18/
CATEGORIES:Classes
ATTACH;FMTTYPE=image/jpeg:https://creativealliance.org/wp-content/uploads/2025/10/thumbnail_RGBTV2025Origins2025April122025PAJ_9359.jpg
END:VEVENT
BEGIN:VEVENT
DTSTART;TZID=America/New_York:20260418T173000
DTEND;TZID=America/New_York:20260418T203000
DTSTAMP:20260425T093950
CREATED:20260130T055951Z
LAST-MODIFIED:20260406T222447Z
UID:10005632-1776533400-1776544200@creativealliance.org
SUMMARY:Wondering & Wandering: Photo Workshop
DESCRIPTION:https://creativealliance.my.salesforce-sites.com/ticket/#/instances/a0FUp00000IpIYPMA3 \nhttps://creativealliance.my.salesforce-sites.com/ticket/#/events/a0SUp000008t5fBMAQ \nService Fee waived for members
URL:https://creativealliance.org/event/wondering-wandering-photo-workshop/
CATEGORIES:Classes
ATTACH;FMTTYPE=image/jpeg:https://creativealliance.org/wp-content/uploads/2026/01/Lyon-Photo-Class-scaled.jpg
END:VEVENT
BEGIN:VEVENT
DTSTART;TZID=America/New_York:20260419T130000
DTEND;TZID=America/New_York:20260419T143000
DTSTAMP:20260425T093950
CREATED:20260130T051459Z
LAST-MODIFIED:20260406T192308Z
UID:10005598-1776603600-1776609000@creativealliance.org
SUMMARY:Spring (Herbal) Tea Lab
DESCRIPTION:https://creativealliance.my.salesforce-sites.com/ticket/#/events/a0SUp000008t5fBMAQ \nService Fee waived for members
URL:https://creativealliance.org/event/spring-herbal-tea-lab-blend-for-nourishment-focus-seasonal-ease/
CATEGORIES:Classes
ATTACH;FMTTYPE=image/jpeg:https://creativealliance.org/wp-content/uploads/2026/01/tea-lab-herbal-thumbnail-scaled.jpg
END:VEVENT
BEGIN:VEVENT
DTSTART;TZID=America/New_York:20260419T193000
DTEND;TZID=America/New_York:20260419T193000
DTSTAMP:20260425T093950
CREATED:20251010T160047Z
LAST-MODIFIED:20260410T201820Z
UID:10004858-1776627000-1776627000@creativealliance.org
SUMMARY:The Orchestra of Indigenous Instruments and New Technologies
DESCRIPTION:
URL:https://creativealliance.org/event/the-orchestra-of-indigenous-instruments-and-new-technologies/
CATEGORIES:Music, Performance & Film,Streaming
ATTACH;FMTTYPE=image/png:https://creativealliance.org/wp-content/uploads/2025/10/Indigenous_SocialsHero-16x9-1.png
END:VEVENT
END:VCALENDAR