BEGIN:VCALENDAR
VERSION:2.0
PRODID:-//Creative Alliance - ECPv6.14.2//NONSGML v1.0//EN
CALSCALE:GREGORIAN
METHOD:PUBLISH
X-ORIGINAL-URL:https://creativealliance.org
X-WR-CALDESC:Events for Creative Alliance
REFRESH-INTERVAL;VALUE=DURATION:PT1H
X-Robots-Tag:noindex
X-PUBLISHED-TTL:PT1H
BEGIN:VTIMEZONE
TZID:America/New_York
BEGIN:DAYLIGHT
TZOFFSETFROM:-0500
TZOFFSETTO:-0400
TZNAME:EDT
DTSTART:20250309T070000
END:DAYLIGHT
BEGIN:STANDARD
TZOFFSETFROM:-0400
TZOFFSETTO:-0500
TZNAME:EST
DTSTART:20251102T060000
END:STANDARD
BEGIN:DAYLIGHT
TZOFFSETFROM:-0500
TZOFFSETTO:-0400
TZNAME:EDT
DTSTART:20260308T070000
END:DAYLIGHT
BEGIN:STANDARD
TZOFFSETFROM:-0400
TZOFFSETTO:-0500
TZNAME:EST
DTSTART:20261101T060000
END:STANDARD
END:VTIMEZONE
BEGIN:VEVENT
DTSTART;TZID=America/New_York:20250628T120000
DTEND;TZID=America/New_York:20250628T130000
DTSTAMP:20260423T083401
CREATED:20250519T164604Z
LAST-MODIFIED:20250716T151022Z
UID:10004171-1751112000-1751115600@creativealliance.org
SUMMARY:Community Yoga w/ Free Baltimore Yoga
DESCRIPTION:
URL:https://creativealliance.org/event/community-yoga-w-free-baltimore-yoga-5/2025-06-28/
CATEGORIES:Classes,Festivals & Community,Youth & Family
ATTACH;FMTTYPE=image/jpeg:https://creativealliance.org/wp-content/uploads/2024/04/315021768_539027891565089_6030096231543144797_n-e1747672988230.jpg
END:VEVENT
BEGIN:VEVENT
DTSTART;TZID=America/New_York:20250628T120000
DTEND;TZID=America/New_York:20250628T130000
DTSTAMP:20260423T083401
CREATED:20250519T173134Z
LAST-MODIFIED:20250701T153117Z
UID:10004443-1751112000-1751115600@creativealliance.org
SUMMARY:Shake Out Your Sillies
DESCRIPTION:
URL:https://creativealliance.org/event/shake-out-your-sillies-4/2025-06-28/
CATEGORIES:Classes,Youth & Family
ATTACH;FMTTYPE=image/png:https://creativealliance.org/wp-content/uploads/2023/04/Screenshot-2023-07-14-at-10.48.14-PM-e1747675834782.png
END:VEVENT
BEGIN:VEVENT
DTSTART;TZID=America/New_York:20250705T120000
DTEND;TZID=America/New_York:20250705T130000
DTSTAMP:20260423T083401
CREATED:20250519T164604Z
LAST-MODIFIED:20250716T151022Z
UID:10004172-1751716800-1751720400@creativealliance.org
SUMMARY:Community Yoga w/ Free Baltimore Yoga
DESCRIPTION:
URL:https://creativealliance.org/event/community-yoga-w-free-baltimore-yoga-5/2025-07-05/
CATEGORIES:Classes,Festivals & Community,Youth & Family
ATTACH;FMTTYPE=image/jpeg:https://creativealliance.org/wp-content/uploads/2024/04/315021768_539027891565089_6030096231543144797_n-e1747672988230.jpg
END:VEVENT
BEGIN:VEVENT
DTSTART;TZID=America/New_York:20250705T133000
DTEND;TZID=America/New_York:20250705T163000
DTSTAMP:20260423T083401
CREATED:20250702T132900Z
LAST-MODIFIED:20260226T045852Z
UID:10004495-1751722200-1751733000@creativealliance.org
SUMMARY:B'more Yoyo Club
DESCRIPTION:
URL:https://creativealliance.org/event/bmore-yoyo-club-2/2025-07-05/
CATEGORIES:Classes
ATTACH;FMTTYPE=image/jpeg:https://creativealliance.org/wp-content/uploads/2024/08/ABYoYo781-scaled.jpg
END:VEVENT
BEGIN:VEVENT
DTSTART;TZID=America/New_York:20250710T183000
DTEND;TZID=America/New_York:20250710T193000
DTSTAMP:20260423T083401
CREATED:20250519T175027Z
LAST-MODIFIED:20250519T175027Z
UID:10004447-1752172200-1752175800@creativealliance.org
SUMMARY:Learning to Live Fully: Introduction to Mindfulness Meditation
DESCRIPTION:
URL:https://creativealliance.org/event/learning-to-live-fully-introduction-to-mindfulness-meditation/2025-07-10/
CATEGORIES:Classes,Festivals & Community
ATTACH;FMTTYPE=image/png:https://creativealliance.org/wp-content/uploads/2023/10/Aprendiendo-a-Vivir-e1697466674527.png
END:VEVENT
BEGIN:VEVENT
DTSTART;TZID=America/New_York:20250712T120000
DTEND;TZID=America/New_York:20250712T130000
DTSTAMP:20260423T083401
CREATED:20250519T164604Z
LAST-MODIFIED:20250716T151022Z
UID:10004173-1752321600-1752325200@creativealliance.org
SUMMARY:Community Yoga w/ Free Baltimore Yoga
DESCRIPTION:
URL:https://creativealliance.org/event/community-yoga-w-free-baltimore-yoga-5/2025-07-12/
CATEGORIES:Classes,Festivals & Community,Youth & Family
ATTACH;FMTTYPE=image/jpeg:https://creativealliance.org/wp-content/uploads/2024/04/315021768_539027891565089_6030096231543144797_n-e1747672988230.jpg
END:VEVENT
BEGIN:VEVENT
DTSTART;TZID=America/New_York:20250802T120000
DTEND;TZID=America/New_York:20250802T130000
DTSTAMP:20260423T083401
CREATED:20250519T164604Z
LAST-MODIFIED:20250716T151022Z
UID:10004176-1754136000-1754139600@creativealliance.org
SUMMARY:Community Yoga w/ Free Baltimore Yoga
DESCRIPTION:
URL:https://creativealliance.org/event/community-yoga-w-free-baltimore-yoga-5/2025-08-02/
CATEGORIES:Classes,Festivals & Community,Youth & Family
ATTACH;FMTTYPE=image/jpeg:https://creativealliance.org/wp-content/uploads/2024/04/315021768_539027891565089_6030096231543144797_n-e1747672988230.jpg
END:VEVENT
BEGIN:VEVENT
DTSTART;TZID=America/New_York:20250802T133000
DTEND;TZID=America/New_York:20250802T163000
DTSTAMP:20260423T083401
CREATED:20250702T132900Z
LAST-MODIFIED:20260226T045852Z
UID:10004538-1754141400-1754152200@creativealliance.org
SUMMARY:B'more Yoyo Club
DESCRIPTION:
URL:https://creativealliance.org/event/bmore-yoyo-club-2/2025-08-02/
CATEGORIES:Classes
ATTACH;FMTTYPE=image/jpeg:https://creativealliance.org/wp-content/uploads/2024/08/ABYoYo781-scaled.jpg
END:VEVENT
BEGIN:VEVENT
DTSTART;TZID=America/New_York:20250809T110000
DTEND;TZID=America/New_York:20250809T120000
DTSTAMP:20260423T083401
CREATED:20250519T173134Z
LAST-MODIFIED:20250701T153117Z
UID:10004490-1754737200-1754740800@creativealliance.org
SUMMARY:Shake Out Your Sillies
DESCRIPTION:
URL:https://creativealliance.org/event/shake-out-your-sillies-4/2025-08-09/
CATEGORIES:Classes,Youth & Family
ATTACH;FMTTYPE=image/png:https://creativealliance.org/wp-content/uploads/2023/04/Screenshot-2023-07-14-at-10.48.14-PM-e1747675834782.png
END:VEVENT
BEGIN:VEVENT
DTSTART;TZID=America/New_York:20250809T120000
DTEND;TZID=America/New_York:20250809T130000
DTSTAMP:20260423T083401
CREATED:20250519T164604Z
LAST-MODIFIED:20250716T151022Z
UID:10004177-1754740800-1754744400@creativealliance.org
SUMMARY:Community Yoga w/ Free Baltimore Yoga
DESCRIPTION:
URL:https://creativealliance.org/event/community-yoga-w-free-baltimore-yoga-5/2025-08-09/
CATEGORIES:Classes,Festivals & Community,Youth & Family
ATTACH;FMTTYPE=image/jpeg:https://creativealliance.org/wp-content/uploads/2024/04/315021768_539027891565089_6030096231543144797_n-e1747672988230.jpg
END:VEVENT
BEGIN:VEVENT
DTSTART;TZID=America/New_York:20250814T183000
DTEND;TZID=America/New_York:20250814T193000
DTSTAMP:20260423T083401
CREATED:20250519T175027Z
LAST-MODIFIED:20250519T175027Z
UID:10004448-1755196200-1755199800@creativealliance.org
SUMMARY:Learning to Live Fully: Introduction to Mindfulness Meditation
DESCRIPTION:
URL:https://creativealliance.org/event/learning-to-live-fully-introduction-to-mindfulness-meditation/2025-08-14/
CATEGORIES:Classes,Festivals & Community
ATTACH;FMTTYPE=image/png:https://creativealliance.org/wp-content/uploads/2023/10/Aprendiendo-a-Vivir-e1697466674527.png
END:VEVENT
BEGIN:VEVENT
DTSTART;TZID=America/New_York:20250823T120000
DTEND;TZID=America/New_York:20250823T130000
DTSTAMP:20260423T083401
CREATED:20250519T164604Z
LAST-MODIFIED:20250716T151022Z
UID:10004178-1755950400-1755954000@creativealliance.org
SUMMARY:Community Yoga w/ Free Baltimore Yoga
DESCRIPTION:
URL:https://creativealliance.org/event/community-yoga-w-free-baltimore-yoga-5/2025-08-23/
CATEGORIES:Classes,Festivals & Community,Youth & Family
ATTACH;FMTTYPE=image/jpeg:https://creativealliance.org/wp-content/uploads/2024/04/315021768_539027891565089_6030096231543144797_n-e1747672988230.jpg
END:VEVENT
BEGIN:VEVENT
DTSTART;TZID=America/New_York:20250830T120000
DTEND;TZID=America/New_York:20250830T130000
DTSTAMP:20260423T083401
CREATED:20250519T164604Z
LAST-MODIFIED:20250716T151022Z
UID:10004179-1756555200-1756558800@creativealliance.org
SUMMARY:Community Yoga w/ Free Baltimore Yoga
DESCRIPTION:
URL:https://creativealliance.org/event/community-yoga-w-free-baltimore-yoga-5/2025-08-30/
CATEGORIES:Classes,Festivals & Community,Youth & Family
ATTACH;FMTTYPE=image/jpeg:https://creativealliance.org/wp-content/uploads/2024/04/315021768_539027891565089_6030096231543144797_n-e1747672988230.jpg
END:VEVENT
BEGIN:VEVENT
DTSTART;TZID=America/New_York:20250906T120000
DTEND;TZID=America/New_York:20250906T130000
DTSTAMP:20260423T083401
CREATED:20250519T164604Z
LAST-MODIFIED:20250716T151022Z
UID:10004180-1757160000-1757163600@creativealliance.org
SUMMARY:Community Yoga w/ Free Baltimore Yoga
DESCRIPTION:
URL:https://creativealliance.org/event/community-yoga-w-free-baltimore-yoga-5/2025-09-06/
CATEGORIES:Classes,Festivals & Community,Youth & Family
ATTACH;FMTTYPE=image/jpeg:https://creativealliance.org/wp-content/uploads/2024/04/315021768_539027891565089_6030096231543144797_n-e1747672988230.jpg
END:VEVENT
BEGIN:VEVENT
DTSTART;TZID=America/New_York:20250906T133000
DTEND;TZID=America/New_York:20250906T163000
DTSTAMP:20260423T083401
CREATED:20250702T132900Z
LAST-MODIFIED:20260226T045852Z
UID:10004539-1757165400-1757176200@creativealliance.org
SUMMARY:B'more Yoyo Club
DESCRIPTION:
URL:https://creativealliance.org/event/bmore-yoyo-club-2/2025-09-06/
CATEGORIES:Classes
ATTACH;FMTTYPE=image/jpeg:https://creativealliance.org/wp-content/uploads/2024/08/ABYoYo781-scaled.jpg
END:VEVENT
BEGIN:VEVENT
DTSTART;TZID=America/New_York:20250911T183000
DTEND;TZID=America/New_York:20250911T193000
DTSTAMP:20260423T083401
CREATED:20250519T175027Z
LAST-MODIFIED:20250519T175027Z
UID:10004449-1757615400-1757619000@creativealliance.org
SUMMARY:Learning to Live Fully: Introduction to Mindfulness Meditation
DESCRIPTION:
URL:https://creativealliance.org/event/learning-to-live-fully-introduction-to-mindfulness-meditation/2025-09-11/
CATEGORIES:Classes,Festivals & Community
ATTACH;FMTTYPE=image/png:https://creativealliance.org/wp-content/uploads/2023/10/Aprendiendo-a-Vivir-e1697466674527.png
END:VEVENT
BEGIN:VEVENT
DTSTART;TZID=America/New_York:20250913T120000
DTEND;TZID=America/New_York:20250913T130000
DTSTAMP:20260423T083401
CREATED:20250519T164604Z
LAST-MODIFIED:20250716T151022Z
UID:10004181-1757764800-1757768400@creativealliance.org
SUMMARY:Community Yoga w/ Free Baltimore Yoga
DESCRIPTION:
URL:https://creativealliance.org/event/community-yoga-w-free-baltimore-yoga-5/2025-09-13/
CATEGORIES:Classes,Festivals & Community,Youth & Family
ATTACH;FMTTYPE=image/jpeg:https://creativealliance.org/wp-content/uploads/2024/04/315021768_539027891565089_6030096231543144797_n-e1747672988230.jpg
END:VEVENT
BEGIN:VEVENT
DTSTART;TZID=America/New_York:20250920T120000
DTEND;TZID=America/New_York:20250920T130000
DTSTAMP:20260423T083401
CREATED:20250519T164604Z
LAST-MODIFIED:20250716T151022Z
UID:10004182-1758369600-1758373200@creativealliance.org
SUMMARY:Community Yoga w/ Free Baltimore Yoga
DESCRIPTION:
URL:https://creativealliance.org/event/community-yoga-w-free-baltimore-yoga-5/2025-09-20/
CATEGORIES:Classes,Festivals & Community,Youth & Family
ATTACH;FMTTYPE=image/jpeg:https://creativealliance.org/wp-content/uploads/2024/04/315021768_539027891565089_6030096231543144797_n-e1747672988230.jpg
END:VEVENT
BEGIN:VEVENT
DTSTART;TZID=America/New_York:20251004T133000
DTEND;TZID=America/New_York:20251004T163000
DTSTAMP:20260423T083401
CREATED:20250702T132900Z
LAST-MODIFIED:20260226T045852Z
UID:10004540-1759584600-1759595400@creativealliance.org
SUMMARY:B'more Yoyo Club
DESCRIPTION:
URL:https://creativealliance.org/event/bmore-yoyo-club-2/2025-10-04/
CATEGORIES:Classes
ATTACH;FMTTYPE=image/jpeg:https://creativealliance.org/wp-content/uploads/2024/08/ABYoYo781-scaled.jpg
END:VEVENT
BEGIN:VEVENT
DTSTART;TZID=America/New_York:20251009T183000
DTEND;TZID=America/New_York:20251009T193000
DTSTAMP:20260423T083401
CREATED:20250519T175027Z
LAST-MODIFIED:20250519T175027Z
UID:10004450-1760034600-1760038200@creativealliance.org
SUMMARY:Learning to Live Fully: Introduction to Mindfulness Meditation
DESCRIPTION:
URL:https://creativealliance.org/event/learning-to-live-fully-introduction-to-mindfulness-meditation/2025-10-09/
CATEGORIES:Classes,Festivals & Community
ATTACH;FMTTYPE=image/png:https://creativealliance.org/wp-content/uploads/2023/10/Aprendiendo-a-Vivir-e1697466674527.png
END:VEVENT
BEGIN:VEVENT
DTSTART;TZID=America/New_York:20251101T133000
DTEND;TZID=America/New_York:20251101T163000
DTSTAMP:20260423T083401
CREATED:20250702T132900Z
LAST-MODIFIED:20260226T045852Z
UID:10004541-1762003800-1762014600@creativealliance.org
SUMMARY:B'more Yoyo Club
DESCRIPTION:
URL:https://creativealliance.org/event/bmore-yoyo-club-2/2025-11-01/
CATEGORIES:Classes
ATTACH;FMTTYPE=image/jpeg:https://creativealliance.org/wp-content/uploads/2024/08/ABYoYo781-scaled.jpg
END:VEVENT
BEGIN:VEVENT
DTSTART;TZID=America/New_York:20251113T183000
DTEND;TZID=America/New_York:20251113T193000
DTSTAMP:20260423T083401
CREATED:20250519T175027Z
LAST-MODIFIED:20250519T175027Z
UID:10004451-1763058600-1763062200@creativealliance.org
SUMMARY:Learning to Live Fully: Introduction to Mindfulness Meditation
DESCRIPTION:
URL:https://creativealliance.org/event/learning-to-live-fully-introduction-to-mindfulness-meditation/2025-11-13/
CATEGORIES:Classes,Festivals & Community
ATTACH;FMTTYPE=image/png:https://creativealliance.org/wp-content/uploads/2023/10/Aprendiendo-a-Vivir-e1697466674527.png
END:VEVENT
BEGIN:VEVENT
DTSTART;TZID=America/New_York:20251206T133000
DTEND;TZID=America/New_York:20251206T163000
DTSTAMP:20260423T083401
CREATED:20250702T132900Z
LAST-MODIFIED:20260226T045852Z
UID:10004542-1765027800-1765038600@creativealliance.org
SUMMARY:B'more Yoyo Club
DESCRIPTION:
URL:https://creativealliance.org/event/bmore-yoyo-club-2/2025-12-06/
CATEGORIES:Classes
ATTACH;FMTTYPE=image/jpeg:https://creativealliance.org/wp-content/uploads/2024/08/ABYoYo781-scaled.jpg
END:VEVENT
BEGIN:VEVENT
DTSTART;TZID=America/New_York:20251211T183000
DTEND;TZID=America/New_York:20251211T193000
DTSTAMP:20260423T083401
CREATED:20250519T175027Z
LAST-MODIFIED:20250519T175027Z
UID:10004452-1765477800-1765481400@creativealliance.org
SUMMARY:Learning to Live Fully: Introduction to Mindfulness Meditation
DESCRIPTION:
URL:https://creativealliance.org/event/learning-to-live-fully-introduction-to-mindfulness-meditation/2025-12-11/
CATEGORIES:Classes,Festivals & Community
ATTACH;FMTTYPE=image/png:https://creativealliance.org/wp-content/uploads/2023/10/Aprendiendo-a-Vivir-e1697466674527.png
END:VEVENT
BEGIN:VEVENT
DTSTART;TZID=America/New_York:20260103T133000
DTEND;TZID=America/New_York:20260103T163000
DTSTAMP:20260423T083401
CREATED:20250702T132900Z
LAST-MODIFIED:20260226T045852Z
UID:10005715-1767447000-1767457800@creativealliance.org
SUMMARY:B'more Yoyo Club
DESCRIPTION:
URL:https://creativealliance.org/event/bmore-yoyo-club-2/2026-01-03/
CATEGORIES:Classes
ATTACH;FMTTYPE=image/jpeg:https://creativealliance.org/wp-content/uploads/2024/08/ABYoYo781-scaled.jpg
END:VEVENT
BEGIN:VEVENT
DTSTART;TZID=America/New_York:20260108T183000
DTEND;TZID=America/New_York:20260108T183000
DTSTAMP:20260423T083402
CREATED:20260130T060639Z
LAST-MODIFIED:20260130T074212Z
UID:10005606-1767897000-1767897000@creativealliance.org
SUMMARY:Learning to Live Fully: Introduction to Mindfulness Meditation
DESCRIPTION:
URL:https://creativealliance.org/event/learning-to-live-fully-introduction-to-mindfulness-meditation-2-2/2026-01-08/
CATEGORIES:Classes,Festivals & Community
ATTACH;FMTTYPE=image/png:https://creativealliance.org/wp-content/uploads/2023/10/Aprendiendo-a-Vivir-e1697466674527.png
END:VEVENT
BEGIN:VEVENT
DTSTART;TZID=America/New_York:20260114T183000
DTEND;TZID=America/New_York:20260114T203000
DTSTAMP:20260423T083402
CREATED:20251204T020839Z
LAST-MODIFIED:20260204T151125Z
UID:10004920-1768415400-1768422600@creativealliance.org
SUMMARY:Fundamentals of Improv: Level 1
DESCRIPTION:https://creativealliance.my.salesforce-sites.com/ticket/#/instances/a0F4W00000b3jPyUAI
URL:https://creativealliance.org/event/fundamentals-of-improv-level-1-w-highwire-improv-2/
CATEGORIES:Classes
ATTACH;FMTTYPE=image/jpeg:https://creativealliance.org/wp-content/uploads/2023/10/Blockparty-scaled.jpg
END:VEVENT
BEGIN:VEVENT
DTSTART;TZID=America/New_York:20260117T110000
DTEND;TZID=America/New_York:20260117T110000
DTSTAMP:20260423T083402
CREATED:20260112T152449Z
LAST-MODIFIED:20260420T172102Z
UID:10005082-1768647600-1768647600@creativealliance.org
SUMMARY:Shake Out Your Sillies
DESCRIPTION:
URL:https://creativealliance.org/event/shake-out-your-sillies/2026-01-17/
CATEGORIES:Classes,Youth & Family
ATTACH;FMTTYPE=image/png:https://creativealliance.org/wp-content/uploads/2023/04/Screenshot-2023-07-14-at-10.48.14-PM-e1747675834782.png
END:VEVENT
BEGIN:VEVENT
DTSTART;TZID=America/New_York:20260117T133000
DTEND;TZID=America/New_York:20260117T143000
DTSTAMP:20260423T083402
CREATED:20251218T160432Z
LAST-MODIFIED:20260420T172139Z
UID:10005005-1768656600-1768660200@creativealliance.org
SUMMARY:Indian Classical Dance - Bharatnatyam
DESCRIPTION:
URL:https://creativealliance.org/event/indian-classical-dance-bharatnatyam-with-jhu-shakti-2026/2026-01-17/
CATEGORIES:Classes
ATTACH;FMTTYPE=image/jpeg:https://creativealliance.org/wp-content/uploads/2025/10/thumbnail_RGBTV2025Origins2025April122025PAJ_9359.jpg
END:VEVENT
BEGIN:VEVENT
DTSTART;TZID=America/New_York:20260122T190000
DTEND;TZID=America/New_York:20260122T190000
DTSTAMP:20260423T083402
CREATED:20251204T023551Z
LAST-MODIFIED:20260113T192714Z
UID:10004921-1769108400-1769108400@creativealliance.org
SUMMARY:Craft and Cinema Night: Legally Blonde
DESCRIPTION:
URL:https://creativealliance.org/event/craft-and-cinema-night-legally-blonde/
CATEGORIES:Music, Performance & Film
END:VEVENT
END:VCALENDAR