BEGIN:VCALENDAR
VERSION:2.0
PRODID:-//Creative Alliance - ECPv6.14.2//NONSGML v1.0//EN
CALSCALE:GREGORIAN
METHOD:PUBLISH
X-WR-CALNAME:Creative Alliance
X-ORIGINAL-URL:https://creativealliance.org
X-WR-CALDESC:Events for Creative Alliance
REFRESH-INTERVAL;VALUE=DURATION:PT1H
X-Robots-Tag:noindex
X-PUBLISHED-TTL:PT1H
BEGIN:VTIMEZONE
TZID:America/New_York
BEGIN:DAYLIGHT
TZOFFSETFROM:-0500
TZOFFSETTO:-0400
TZNAME:EDT
DTSTART:20250309T070000
END:DAYLIGHT
BEGIN:STANDARD
TZOFFSETFROM:-0400
TZOFFSETTO:-0500
TZNAME:EST
DTSTART:20251102T060000
END:STANDARD
END:VTIMEZONE
BEGIN:VTIMEZONE
TZID:UTC
BEGIN:STANDARD
TZOFFSETFROM:+0000
TZOFFSETTO:+0000
TZNAME:UTC
DTSTART:20250101T000000
END:STANDARD
END:VTIMEZONE
BEGIN:VEVENT
DTSTART;TZID=America/New_York:20250521T193000
DTEND;TZID=America/New_York:20250521T193000
DTSTAMP:20260423T064146
CREATED:20250402T172105Z
LAST-MODIFIED:20250429T185409Z
UID:10004432-1747855800-1747855800@creativealliance.org
SUMMARY:Luciane Dom from Rio de Janeiro
DESCRIPTION:
URL:https://creativealliance.org/event/luciane-dom-from-rio-de-janeiro/
CATEGORIES:Music, Performance & Film,Streaming
ATTACH;FMTTYPE=image/png:https://creativealliance.org/wp-content/uploads/2025/04/2302e623-5a5b-b8cc-3c7c-c1bd2ac78b2b-e1745952831834.png
END:VEVENT
BEGIN:VEVENT
DTSTART;TZID=America/New_York:20250523T200000
DTEND;TZID=America/New_York:20250523T200000
DTSTAMP:20260423T064146
CREATED:20250317T200559Z
LAST-MODIFIED:20250317T200559Z
UID:10004149-1748030400-1748030400@creativealliance.org
SUMMARY:"Celebrity Wisdom" w/ Heather Moyer
DESCRIPTION:
URL:https://creativealliance.org/event/celebrity-wisdom-w-heather-moyer/
CATEGORIES:Music, Performance & Film
ATTACH;FMTTYPE=image/png:https://creativealliance.org/wp-content/uploads/2025/03/CW_CreativeAlliance.png
END:VEVENT
BEGIN:VEVENT
DTSTART;TZID=America/New_York:20250524T120000
DTEND;TZID=America/New_York:20250524T130000
DTSTAMP:20260423T064146
CREATED:20250519T164604Z
LAST-MODIFIED:20250716T151022Z
UID:10004166-1748088000-1748091600@creativealliance.org
SUMMARY:Community Yoga w/ Free Baltimore Yoga
DESCRIPTION:
URL:https://creativealliance.org/event/community-yoga-w-free-baltimore-yoga-5/2025-05-24/
CATEGORIES:Classes,Festivals & Community,Youth & Family
ATTACH;FMTTYPE=image/jpeg:https://creativealliance.org/wp-content/uploads/2024/04/315021768_539027891565089_6030096231543144797_n-e1747672988230.jpg
END:VEVENT
BEGIN:VEVENT
DTSTART;TZID=America/New_York:20250524T200000
DTEND;TZID=America/New_York:20250524T200000
DTSTAMP:20260423T064146
CREATED:20250123T171157Z
LAST-MODIFIED:20250430T200433Z
UID:10004376-1748116800-1748116800@creativealliance.org
SUMMARY:Can I Kick It? Monkey Man
DESCRIPTION:
URL:https://creativealliance.org/event/can-i-kick-it-monkey-man/
CATEGORIES:Music, Performance & Film
ATTACH;FMTTYPE=image/jpeg:https://creativealliance.org/wp-content/uploads/2025/01/horizontal_poster_mm-scaled.jpg
END:VEVENT
BEGIN:VEVENT
DTSTART;TZID=America/New_York:20250531T120000
DTEND;TZID=America/New_York:20250531T130000
DTSTAMP:20260423T064146
CREATED:20250519T164604Z
LAST-MODIFIED:20250716T151022Z
UID:10004167-1748692800-1748696400@creativealliance.org
SUMMARY:Community Yoga w/ Free Baltimore Yoga
DESCRIPTION:
URL:https://creativealliance.org/event/community-yoga-w-free-baltimore-yoga-5/2025-05-31/
CATEGORIES:Classes,Festivals & Community,Youth & Family
ATTACH;FMTTYPE=image/jpeg:https://creativealliance.org/wp-content/uploads/2024/04/315021768_539027891565089_6030096231543144797_n-e1747672988230.jpg
END:VEVENT
BEGIN:VEVENT
DTSTART;TZID=UTC:20250606T190000
DTEND;TZID=UTC:20250606T220000
DTSTAMP:20260423T064146
CREATED:20250510T183324Z
LAST-MODIFIED:20250606T210651Z
UID:10004162-1749236400-1749247200@creativealliance.org
SUMMARY:FURROCITY PRIDE SHOW
DESCRIPTION:https://creativealliance.my.salesforce-sites.com/ticket/#/instances/a0FUp00000BIfmMMAT?promptforlogin \nhttps://creativealliance.my.salesforce-sites.com/ticket/#/instances/a0FUp000006Eb13MAC \n?promptforlogin” \nhttps://creativealliance.my.salesforce-sites.com/ticket/#/instances/a0F4W00000c4b4HUAQhttps://creativealliance.my.salesforce-sites.com/ticket/#/instances/a0F4W00000c4b4bUAA \nEssential Tease instructors Jacqueline Boxx\, Tempete La Coeur\, and Ruby Rockafella are proud to present eight brand-spanking new burlesque performers! After completing an 8-week-long workshop that transformed them from the inside out\, these students are ready to bring their acts and assets to the stage for the first time ever! Featuring guest MC\, Jennifer Eden\, special performances by Essential Tease instructors\, and live ASL interpretation by Billy Sanders! The show will stream virtually as well as being live on stage!
URL:https://creativealliance.org/event/furrocity-pride-show/
CATEGORIES:Music, Performance & Film
END:VEVENT
BEGIN:VEVENT
DTSTART;TZID=America/New_York:20250607T120000
DTEND;TZID=America/New_York:20250607T130000
DTSTAMP:20260423T064146
CREATED:20250519T164604Z
LAST-MODIFIED:20250716T151022Z
UID:10004168-1749297600-1749301200@creativealliance.org
SUMMARY:Community Yoga w/ Free Baltimore Yoga
DESCRIPTION:
URL:https://creativealliance.org/event/community-yoga-w-free-baltimore-yoga-5/2025-06-07/
CATEGORIES:Classes,Festivals & Community,Youth & Family
ATTACH;FMTTYPE=image/jpeg:https://creativealliance.org/wp-content/uploads/2024/04/315021768_539027891565089_6030096231543144797_n-e1747672988230.jpg
END:VEVENT
BEGIN:VEVENT
DTSTART;TZID=America/New_York:20250607T133000
DTEND;TZID=America/New_York:20250607T133000
DTSTAMP:20260423T064146
CREATED:20240822T165452Z
LAST-MODIFIED:20250131T165046Z
UID:10004109-1749303000-1749303000@creativealliance.org
SUMMARY:B'more Yoyo Club
DESCRIPTION:
URL:https://creativealliance.org/event/bmore-yoyo-club-2025-06-07/
CATEGORIES:Classes
ATTACH;FMTTYPE=image/jpeg:https://creativealliance.org/wp-content/uploads/2024/08/ABYoYo781-scaled.jpg
END:VEVENT
BEGIN:VEVENT
DTSTART;TZID=America/New_York:20250607T190000
DTEND;TZID=America/New_York:20250607T190000
DTSTAMP:20260423T064146
CREATED:20250213T183030Z
LAST-MODIFIED:20250505T195707Z
UID:10004128-1749322800-1749322800@creativealliance.org
SUMMARY:Mortified Pride Edition 2025
DESCRIPTION:
URL:https://creativealliance.org/event/mortified-pride-edition-jun2025/
CATEGORIES:Music, Performance & Film,Streaming
ATTACH;FMTTYPE=image/jpeg:https://creativealliance.org/wp-content/uploads/2025/02/mortified_pride_9x16-scaled.jpg
END:VEVENT
BEGIN:VEVENT
DTSTART;TZID=America/New_York:20250612T183000
DTEND;TZID=America/New_York:20250612T193000
DTSTAMP:20260423T064146
CREATED:20250519T175027Z
LAST-MODIFIED:20250519T175027Z
UID:10004446-1749753000-1749756600@creativealliance.org
SUMMARY:Learning to Live Fully: Introduction to Mindfulness Meditation
DESCRIPTION:
URL:https://creativealliance.org/event/learning-to-live-fully-introduction-to-mindfulness-meditation/2025-06-12/
CATEGORIES:Classes,Festivals & Community
ATTACH;FMTTYPE=image/png:https://creativealliance.org/wp-content/uploads/2023/10/Aprendiendo-a-Vivir-e1697466674527.png
END:VEVENT
BEGIN:VEVENT
DTSTART;TZID=America/New_York:20250614T120000
DTEND;TZID=America/New_York:20250614T130000
DTSTAMP:20260423T064146
CREATED:20250519T164604Z
LAST-MODIFIED:20250716T151022Z
UID:10004169-1749902400-1749906000@creativealliance.org
SUMMARY:Community Yoga w/ Free Baltimore Yoga
DESCRIPTION:
URL:https://creativealliance.org/event/community-yoga-w-free-baltimore-yoga-5/2025-06-14/
CATEGORIES:Classes,Festivals & Community,Youth & Family
ATTACH;FMTTYPE=image/jpeg:https://creativealliance.org/wp-content/uploads/2024/04/315021768_539027891565089_6030096231543144797_n-e1747672988230.jpg
END:VEVENT
BEGIN:VEVENT
DTSTART;TZID=America/New_York:20250614T193000
DTEND;TZID=America/New_York:20250614T193000
DTSTAMP:20260423T064146
CREATED:20250325T134152Z
LAST-MODIFIED:20250604T153612Z
UID:10004150-1749929400-1749929400@creativealliance.org
SUMMARY:Super City w/The Tisburys (Philadelphia) plus special guest Glorian
DESCRIPTION:
URL:https://creativealliance.org/event/super-city-w-the-tisburys-philadelphia-plus-special-guests-jun2025/
CATEGORIES:Music, Performance & Film,Streaming
ATTACH;FMTTYPE=image/jpeg:https://creativealliance.org/wp-content/uploads/2025/03/SC-Promo-42-1.jpg
END:VEVENT
BEGIN:VEVENT
DTSTART;TZID=America/New_York:20250616T180000
DTEND;TZID=America/New_York:20250616T180000
DTSTAMP:20260423T064146
CREATED:20250429T172927Z
LAST-MODIFIED:20250516T155927Z
UID:10004440-1750096800-1750096800@creativealliance.org
SUMMARY:Artist Talk | Climas Malsanos | Hoesy Corona Exhibition
DESCRIPTION:
URL:https://creativealliance.org/event/artist-talk-climas-malsanos-hoesy-corona-exhibition/
CATEGORIES:Exhibitions
ATTACH;FMTTYPE=image/jpeg:https://creativealliance.org/wp-content/uploads/2025/04/2_Climate-Poncho_2023-scaled.jpeg
END:VEVENT
BEGIN:VEVENT
DTSTART;TZID=America/New_York:20250617T183000
DTEND;TZID=America/New_York:20250617T210000
DTSTAMP:20260423T064146
CREATED:20250508T184743Z
LAST-MODIFIED:20250610T173935Z
UID:10004160-1750185000-1750194000@creativealliance.org
SUMMARY:Classical Figure Drawing w/ Lydia Ethem
DESCRIPTION:
URL:https://creativealliance.org/event/classical-figure-drawing-w-lydia-ethem/
CATEGORIES:Classes
ATTACH;FMTTYPE=image/jpeg:https://creativealliance.org/wp-content/uploads/2024/08/JB4_9089-scaled.jpg
END:VEVENT
BEGIN:VEVENT
DTSTART;VALUE=DATE:20250620
DTEND;VALUE=DATE:20250720
DTSTAMP:20260423T064146
CREATED:20250513T153711Z
LAST-MODIFIED:20250620T045015Z
UID:10004164-1750377600-1752969599@creativealliance.org
SUMMARY:Stars and Portals | Adewale Alli and Villager Exhibition
DESCRIPTION:
URL:https://creativealliance.org/event/stars-and-portals-wale-ali-and-villager-exhibition/
CATEGORIES:Exhibitions
ATTACH;FMTTYPE=image/png:https://creativealliance.org/wp-content/uploads/2025/05/stars-a-portals.png
END:VEVENT
BEGIN:VEVENT
DTSTART;TZID=America/New_York:20250620T180000
DTEND;TZID=America/New_York:20250620T180000
DTSTAMP:20260423T064146
CREATED:20250513T152807Z
LAST-MODIFIED:20250610T200021Z
UID:10004163-1750442400-1750442400@creativealliance.org
SUMMARY:(Exhibition Opening) Stars and Portals | Adewale Alli and Villager
DESCRIPTION:
URL:https://creativealliance.org/event/exhibition-opening-stars-and-portals-wale-ali-and-villager/
CATEGORIES:Exhibitions
ATTACH;FMTTYPE=image/png:https://creativealliance.org/wp-content/uploads/2025/05/stars-a-portals.png
END:VEVENT
BEGIN:VEVENT
DTSTART;TZID=UTC:20250620T200000
DTEND;TZID=UTC:20250620T200000
DTSTAMP:20260423T064146
CREATED:20250424T200056Z
LAST-MODIFIED:20250620T135851Z
UID:10004439-1750449600-1750449600@creativealliance.org
SUMMARY:Low Ticket Warning! ESSENTIAL TEASE: Burlesque Student Showcase
DESCRIPTION:https://creativealliance.my.salesforce-sites.com/ticket/#/instances/a0FUp00000BIfmMMAT?promptforlogin \nhttps://creativealliance.my.salesforce-sites.com/ticket/#/instances/a0FUp000006Eb13MAC \n?promptforlogin” \nhttps://creativealliance.my.salesforce-sites.com/ticket/#/instances/a0F4W00000c4b4HUAQhttps://creativealliance.my.salesforce-sites.com/ticket/#/instances/a0F4W00000c4b4bUAA \nEssential Tease instructors Jacqueline Boxx\, Tempete La Coeur\, and Ruby Rockafella are proud to present eight brand-spanking new burlesque performers! After completing an 8-week-long workshop that transformed them from the inside out\, these students are ready to bring their acts and assets to the stage for the first time ever! Featuring guest MC\, Jennifer Eden\, special performances by Essential Tease instructors\, and live ASL interpretation by Billy Sanders! The show will stream virtually as well as being live on stage!
URL:https://creativealliance.org/event/essential-tease-burlesque-student-showcase-spring2025/
CATEGORIES:Music, Performance & Film
END:VEVENT
BEGIN:VEVENT
DTSTART;TZID=America/New_York:20250621T120000
DTEND;TZID=America/New_York:20250621T130000
DTSTAMP:20260423T064146
CREATED:20250519T164604Z
LAST-MODIFIED:20250716T151022Z
UID:10004170-1750507200-1750510800@creativealliance.org
SUMMARY:Community Yoga w/ Free Baltimore Yoga
DESCRIPTION:
URL:https://creativealliance.org/event/community-yoga-w-free-baltimore-yoga-5/2025-06-21/
CATEGORIES:Classes,Festivals & Community,Youth & Family
ATTACH;FMTTYPE=image/jpeg:https://creativealliance.org/wp-content/uploads/2024/04/315021768_539027891565089_6030096231543144797_n-e1747672988230.jpg
END:VEVENT
BEGIN:VEVENT
DTSTART;TZID=America/New_York:20250621T193000
DTEND;TZID=America/New_York:20250621T193000
DTSTAMP:20260423T064146
CREATED:20250404T133707Z
LAST-MODIFIED:20250616T185210Z
UID:10004435-1750534200-1750534200@creativealliance.org
SUMMARY:Baltimore Folk Club presents John Doyle and Mike McGoldrick
DESCRIPTION:Baltimore Folk Club presents John Doyle and Mike McGoldrick
URL:https://creativealliance.org/event/baltimore-folk-club-presents-john-doyle-and-mike-mcgoldrick-jun2025/
CATEGORIES:Music, Performance & Film,Streaming
ATTACH;FMTTYPE=image/png:https://creativealliance.org/wp-content/uploads/2025/04/BFC-Facebook.png
END:VEVENT
BEGIN:VEVENT
DTSTART;TZID=America/New_York:20250627T193000
DTEND;TZID=America/New_York:20250627T220000
DTSTAMP:20260423T064146
CREATED:20250603T181207Z
LAST-MODIFIED:20250616T200535Z
UID:10004486-1751052600-1751061600@creativealliance.org
SUMMARY:David Lynch’s The Elephant Man
DESCRIPTION:
URL:https://creativealliance.org/event/david-lynchs-the-elephant-man-jun2025/
CATEGORIES:Music, Performance & Film
ATTACH;FMTTYPE=image/jpeg:https://creativealliance.org/wp-content/uploads/2025/06/s-l1200.jpg
END:VEVENT
BEGIN:VEVENT
DTSTART;TZID=America/New_York:20250628T120000
DTEND;TZID=America/New_York:20250628T130000
DTSTAMP:20260423T064146
CREATED:20250519T164604Z
LAST-MODIFIED:20250716T151022Z
UID:10004171-1751112000-1751115600@creativealliance.org
SUMMARY:Community Yoga w/ Free Baltimore Yoga
DESCRIPTION:
URL:https://creativealliance.org/event/community-yoga-w-free-baltimore-yoga-5/2025-06-28/
CATEGORIES:Classes,Festivals & Community,Youth & Family
ATTACH;FMTTYPE=image/jpeg:https://creativealliance.org/wp-content/uploads/2024/04/315021768_539027891565089_6030096231543144797_n-e1747672988230.jpg
END:VEVENT
BEGIN:VEVENT
DTSTART;TZID=America/New_York:20250628T120000
DTEND;TZID=America/New_York:20250628T130000
DTSTAMP:20260423T064146
CREATED:20250519T173134Z
LAST-MODIFIED:20250701T153117Z
UID:10004443-1751112000-1751115600@creativealliance.org
SUMMARY:Shake Out Your Sillies
DESCRIPTION:
URL:https://creativealliance.org/event/shake-out-your-sillies-4/2025-06-28/
CATEGORIES:Classes,Youth & Family
ATTACH;FMTTYPE=image/png:https://creativealliance.org/wp-content/uploads/2023/04/Screenshot-2023-07-14-at-10.48.14-PM-e1747675834782.png
END:VEVENT
BEGIN:VEVENT
DTSTART;TZID=America/New_York:20250705T120000
DTEND;TZID=America/New_York:20250705T130000
DTSTAMP:20260423T064146
CREATED:20250519T164604Z
LAST-MODIFIED:20250716T151022Z
UID:10004172-1751716800-1751720400@creativealliance.org
SUMMARY:Community Yoga w/ Free Baltimore Yoga
DESCRIPTION:
URL:https://creativealliance.org/event/community-yoga-w-free-baltimore-yoga-5/2025-07-05/
CATEGORIES:Classes,Festivals & Community,Youth & Family
ATTACH;FMTTYPE=image/jpeg:https://creativealliance.org/wp-content/uploads/2024/04/315021768_539027891565089_6030096231543144797_n-e1747672988230.jpg
END:VEVENT
BEGIN:VEVENT
DTSTART;TZID=America/New_York:20250705T133000
DTEND;TZID=America/New_York:20250705T163000
DTSTAMP:20260423T064146
CREATED:20250702T132900Z
LAST-MODIFIED:20260226T045852Z
UID:10004495-1751722200-1751733000@creativealliance.org
SUMMARY:B'more Yoyo Club
DESCRIPTION:
URL:https://creativealliance.org/event/bmore-yoyo-club-2/2025-07-05/
CATEGORIES:Classes
ATTACH;FMTTYPE=image/jpeg:https://creativealliance.org/wp-content/uploads/2024/08/ABYoYo781-scaled.jpg
END:VEVENT
BEGIN:VEVENT
DTSTART;TZID=America/New_York:20250710T183000
DTEND;TZID=America/New_York:20250710T193000
DTSTAMP:20260423T064146
CREATED:20250519T175027Z
LAST-MODIFIED:20250519T175027Z
UID:10004447-1752172200-1752175800@creativealliance.org
SUMMARY:Learning to Live Fully: Introduction to Mindfulness Meditation
DESCRIPTION:
URL:https://creativealliance.org/event/learning-to-live-fully-introduction-to-mindfulness-meditation/2025-07-10/
CATEGORIES:Classes,Festivals & Community
ATTACH;FMTTYPE=image/png:https://creativealliance.org/wp-content/uploads/2023/10/Aprendiendo-a-Vivir-e1697466674527.png
END:VEVENT
BEGIN:VEVENT
DTSTART;TZID=America/New_York:20250712T120000
DTEND;TZID=America/New_York:20250712T130000
DTSTAMP:20260423T064146
CREATED:20250519T164604Z
LAST-MODIFIED:20250716T151022Z
UID:10004173-1752321600-1752325200@creativealliance.org
SUMMARY:Community Yoga w/ Free Baltimore Yoga
DESCRIPTION:
URL:https://creativealliance.org/event/community-yoga-w-free-baltimore-yoga-5/2025-07-12/
CATEGORIES:Classes,Festivals & Community,Youth & Family
ATTACH;FMTTYPE=image/jpeg:https://creativealliance.org/wp-content/uploads/2024/04/315021768_539027891565089_6030096231543144797_n-e1747672988230.jpg
END:VEVENT
BEGIN:VEVENT
DTSTART;TZID=America/New_York:20250802T120000
DTEND;TZID=America/New_York:20250802T130000
DTSTAMP:20260423T064146
CREATED:20250519T164604Z
LAST-MODIFIED:20250716T151022Z
UID:10004176-1754136000-1754139600@creativealliance.org
SUMMARY:Community Yoga w/ Free Baltimore Yoga
DESCRIPTION:
URL:https://creativealliance.org/event/community-yoga-w-free-baltimore-yoga-5/2025-08-02/
CATEGORIES:Classes,Festivals & Community,Youth & Family
ATTACH;FMTTYPE=image/jpeg:https://creativealliance.org/wp-content/uploads/2024/04/315021768_539027891565089_6030096231543144797_n-e1747672988230.jpg
END:VEVENT
BEGIN:VEVENT
DTSTART;TZID=America/New_York:20250802T133000
DTEND;TZID=America/New_York:20250802T163000
DTSTAMP:20260423T064146
CREATED:20250702T132900Z
LAST-MODIFIED:20260226T045852Z
UID:10004538-1754141400-1754152200@creativealliance.org
SUMMARY:B'more Yoyo Club
DESCRIPTION:
URL:https://creativealliance.org/event/bmore-yoyo-club-2/2025-08-02/
CATEGORIES:Classes
ATTACH;FMTTYPE=image/jpeg:https://creativealliance.org/wp-content/uploads/2024/08/ABYoYo781-scaled.jpg
END:VEVENT
BEGIN:VEVENT
DTSTART;TZID=America/New_York:20250809T110000
DTEND;TZID=America/New_York:20250809T120000
DTSTAMP:20260423T064146
CREATED:20250519T173134Z
LAST-MODIFIED:20250701T153117Z
UID:10004490-1754737200-1754740800@creativealliance.org
SUMMARY:Shake Out Your Sillies
DESCRIPTION:
URL:https://creativealliance.org/event/shake-out-your-sillies-4/2025-08-09/
CATEGORIES:Classes,Youth & Family
ATTACH;FMTTYPE=image/png:https://creativealliance.org/wp-content/uploads/2023/04/Screenshot-2023-07-14-at-10.48.14-PM-e1747675834782.png
END:VEVENT
BEGIN:VEVENT
DTSTART;TZID=America/New_York:20250809T120000
DTEND;TZID=America/New_York:20250809T130000
DTSTAMP:20260423T064146
CREATED:20250519T164604Z
LAST-MODIFIED:20250716T151022Z
UID:10004177-1754740800-1754744400@creativealliance.org
SUMMARY:Community Yoga w/ Free Baltimore Yoga
DESCRIPTION:
URL:https://creativealliance.org/event/community-yoga-w-free-baltimore-yoga-5/2025-08-09/
CATEGORIES:Classes,Festivals & Community,Youth & Family
ATTACH;FMTTYPE=image/jpeg:https://creativealliance.org/wp-content/uploads/2024/04/315021768_539027891565089_6030096231543144797_n-e1747672988230.jpg
END:VEVENT
END:VCALENDAR