BEGIN:VCALENDAR
VERSION:2.0
PRODID:-//Creative Alliance - ECPv6.14.2//NONSGML v1.0//EN
CALSCALE:GREGORIAN
METHOD:PUBLISH
X-ORIGINAL-URL:https://creativealliance.org
X-WR-CALDESC:Events for Creative Alliance
REFRESH-INTERVAL;VALUE=DURATION:PT1H
X-Robots-Tag:noindex
X-PUBLISHED-TTL:PT1H
BEGIN:VTIMEZONE
TZID:America/New_York
BEGIN:DAYLIGHT
TZOFFSETFROM:-0500
TZOFFSETTO:-0400
TZNAME:EDT
DTSTART:20250309T070000
END:DAYLIGHT
BEGIN:STANDARD
TZOFFSETFROM:-0400
TZOFFSETTO:-0500
TZNAME:EST
DTSTART:20251102T060000
END:STANDARD
END:VTIMEZONE
BEGIN:VEVENT
DTSTART;TZID=America/New_York:20250521T193000
DTEND;TZID=America/New_York:20250521T193000
DTSTAMP:20260422T050345
CREATED:20250402T172105Z
LAST-MODIFIED:20250429T185409Z
UID:10004432-1747855800-1747855800@creativealliance.org
SUMMARY:Luciane Dom from Rio de Janeiro
DESCRIPTION:
URL:https://creativealliance.org/event/luciane-dom-from-rio-de-janeiro/
CATEGORIES:Music, Performance & Film,Streaming
ATTACH;FMTTYPE=image/png:https://creativealliance.org/wp-content/uploads/2025/04/2302e623-5a5b-b8cc-3c7c-c1bd2ac78b2b-e1745952831834.png
END:VEVENT
END:VCALENDAR