BEGIN:VCALENDAR
VERSION:2.0
PRODID:-//Creative Alliance - ECPv6.14.2//NONSGML v1.0//EN
CALSCALE:GREGORIAN
METHOD:PUBLISH
X-ORIGINAL-URL:https://creativealliance.org
X-WR-CALDESC:Events for Creative Alliance
REFRESH-INTERVAL;VALUE=DURATION:PT1H
X-Robots-Tag:noindex
X-PUBLISHED-TTL:PT1H
BEGIN:VTIMEZONE
TZID:America/New_York
BEGIN:DAYLIGHT
TZOFFSETFROM:-0500
TZOFFSETTO:-0400
TZNAME:EDT
DTSTART:20260308T070000
END:DAYLIGHT
BEGIN:STANDARD
TZOFFSETFROM:-0400
TZOFFSETTO:-0500
TZNAME:EST
DTSTART:20261101T060000
END:STANDARD
END:VTIMEZONE
BEGIN:VEVENT
DTSTART;TZID=America/New_York:20260425T110000
DTEND;TZID=America/New_York:20260425T110000
DTSTAMP:20260421T073513
CREATED:20260112T152449Z
LAST-MODIFIED:20260420T172102Z
UID:10005091-1777114800-1777114800@creativealliance.org
SUMMARY:Shake Out Your Sillies
DESCRIPTION:
URL:https://creativealliance.org/event/shake-out-your-sillies/2026-04-25/
CATEGORIES:Classes,Youth & Family
ATTACH;FMTTYPE=image/png:https://creativealliance.org/wp-content/uploads/2023/04/Screenshot-2023-07-14-at-10.48.14-PM-e1747675834782.png
END:VEVENT
BEGIN:VEVENT
DTSTART;TZID=America/New_York:20260427T143000
DTEND;TZID=America/New_York:20260427T173000
DTSTAMP:20260421T073513
CREATED:20260129T214737Z
LAST-MODIFIED:20260406T192438Z
UID:10005549-1777300200-1777311000@creativealliance.org
SUMMARY:Open Minds After School Art Club | MAR-JUN 2026
DESCRIPTION:https://creativealliance.my.salesforce-sites.com/ticket/#/instances/a0FUp000009iUejMAE \nhttps://creativealliance.my.salesforce-sites.com/ticket/#/instances/a0FUp000000uVIrMAM \nhttps://creativealliance.my.salesforce-sites.com/ticket/#/instances/a0F4W00000b3qdrUAA
URL:https://creativealliance.org/event/open-minds-after-school-art-club-mar-jun-2026/2026-04-27/
CATEGORIES:Classes,Youth & Family
ATTACH;FMTTYPE=image/jpeg:https://creativealliance.org/wp-content/uploads/2026/02/Open-Minds-After-School-Art-Club_Rachel.jpg
END:VEVENT
END:VCALENDAR