BEGIN:VCALENDAR
VERSION:2.0
PRODID:-//Creative Alliance - ECPv6.14.2//NONSGML v1.0//EN
CALSCALE:GREGORIAN
METHOD:PUBLISH
X-WR-CALNAME:Creative Alliance
X-ORIGINAL-URL:https://creativealliance.org
X-WR-CALDESC:Events for Creative Alliance
REFRESH-INTERVAL;VALUE=DURATION:PT1H
X-Robots-Tag:noindex
X-PUBLISHED-TTL:PT1H
BEGIN:VTIMEZONE
TZID:America/New_York
BEGIN:DAYLIGHT
TZOFFSETFROM:-0500
TZOFFSETTO:-0400
TZNAME:EDT
DTSTART:20260308T070000
END:DAYLIGHT
BEGIN:STANDARD
TZOFFSETFROM:-0400
TZOFFSETTO:-0500
TZNAME:EST
DTSTART:20261101T060000
END:STANDARD
END:VTIMEZONE
BEGIN:VEVENT
DTSTART;TZID=America/New_York:20260423T190000
DTEND;TZID=America/New_York:20260423T190000
DTSTAMP:20260421T112847
CREATED:20260325T151152Z
LAST-MODIFIED:20260420T230240Z
UID:10005872-1776970800-1776970800@creativealliance.org
SUMMARY:Film Screening: The Many Americas Series
DESCRIPTION:
URL:https://creativealliance.org/event/film-screening-the-many-americas-series/
CATEGORIES:Music, Performance & Film
END:VEVENT
BEGIN:VEVENT
DTSTART;TZID=America/New_York:20260424T190000
DTEND;TZID=America/New_York:20260424T230000
DTSTAMP:20260421T112847
CREATED:20260305T164950Z
LAST-MODIFIED:20260420T164053Z
UID:10005787-1777057200-1777071600@creativealliance.org
SUMMARY:Big Meadow
DESCRIPTION:
URL:https://creativealliance.org/event/big-meadow/
CATEGORIES:Music, Performance & Film
ATTACH;FMTTYPE=image/png:https://creativealliance.org/wp-content/uploads/2026/03/Big_Meadow_SocialsHero-16x9-1.png
END:VEVENT
BEGIN:VEVENT
DTSTART;TZID=America/New_York:20260425T210000
DTEND;TZID=America/New_York:20260425T230000
DTSTAMP:20260421T112847
CREATED:20260403T132029Z
LAST-MODIFIED:20260407T174048Z
UID:10005883-1777150800-1777158000@creativealliance.org
SUMMARY:Noche De Travesura
DESCRIPTION:https://creativealliance.my.salesforce-sites.com/ticket/#/instances/a0FUp00000KRbPmMAL
URL:https://creativealliance.org/event/noche-de-travesura/
CATEGORIES:Music, Performance & Film
ATTACH;FMTTYPE=image/jpeg:https://creativealliance.org/wp-content/uploads/2026/04/event_noche_de_travesura-scaled.jpg
END:VEVENT
BEGIN:VEVENT
DTSTART;TZID=America/New_York:20260426T143000
DTEND;TZID=America/New_York:20260426T180000
DTSTAMP:20260421T112847
CREATED:20260417T155058Z
LAST-MODIFIED:20260417T155147Z
UID:10005923-1777213800-1777226400@creativealliance.org
SUMMARY:Baltimore Irish Music School Recital 2026
DESCRIPTION:https://baltimoreirishmusicschool.org/events/bims-spring-recital \nEssential Tease instructors Jacqueline Boxx\, Tempete La Coeur\, and Ruby Rockafella are proud to present eight brand-spanking new burlesque performers! After completing an 8-week-long workshop that transformed them from the inside out\, these students are ready to bring their acts and assets to the stage for the first time ever! Featuring guest MC\, Jennifer Eden\, special performances by Essential Tease instructors\, and live ASL interpretation by Billy Sanders! The show will stream virtually as well as being live on stage!
URL:https://creativealliance.org/event/baltimore-irish-music-school-recital-2026/
CATEGORIES:Music, Performance & Film
ATTACH;FMTTYPE=image/jpeg:https://creativealliance.org/wp-content/uploads/2026/04/Baltimore-Irish-Music-School-Spring-Recital.jpg
END:VEVENT
BEGIN:VEVENT
DTSTART;TZID=America/New_York:20260502T200000
DTEND;TZID=America/New_York:20260502T200000
DTSTAMP:20260421T112847
CREATED:20260213T201207Z
LAST-MODIFIED:20260420T203126Z
UID:10005655-1777752000-1777752000@creativealliance.org
SUMMARY:2026 Marquee Ball: Heroes & Villains
DESCRIPTION:
URL:https://creativealliance.org/event/2026-marquee-ball-heroes-villains/
CATEGORIES:Fundraisers,Music, Performance & Film,Signature Events
ATTACH;FMTTYPE=image/jpeg:https://creativealliance.org/wp-content/uploads/2026/02/2026-CA_Marquee-Ball_HV_May2_v3_1956-x-1029-UPDATED-FINAL-with-Date-scaled.jpg
END:VEVENT
BEGIN:VEVENT
DTSTART;TZID=America/New_York:20260508T200000
DTEND;TZID=America/New_York:20260508T200000
DTSTAMP:20260421T112847
CREATED:20260402T182329Z
LAST-MODIFIED:20260414T142303Z
UID:10005881-1778270400-1778270400@creativealliance.org
SUMMARY:Interactive Movie Night: Death Becomes Her
DESCRIPTION:
URL:https://creativealliance.org/event/interactive-movie-night-death-becomes-her/2026-05-08/
CATEGORIES:Music, Performance & Film
ATTACH;FMTTYPE=image/png:https://creativealliance.org/wp-content/uploads/2026/04/DBH_2026_Web-Header_1.png
END:VEVENT
BEGIN:VEVENT
DTSTART;TZID=America/New_York:20260509T110000
DTEND;TZID=America/New_York:20260509T150000
DTSTAMP:20260421T112847
CREATED:20260325T151929Z
LAST-MODIFIED:20260420T224329Z
UID:10005873-1778324400-1778338800@creativealliance.org
SUMMARY:Art as Response: A Conversation on Creativity\, Community\, and Change
DESCRIPTION:
URL:https://creativealliance.org/event/art-as-response-a-conversation-on-creativity-community-and-change/
CATEGORIES:Meeting - Public,Music, Performance & Film
END:VEVENT
BEGIN:VEVENT
DTSTART;TZID=America/New_York:20260509T200000
DTEND;TZID=America/New_York:20260509T200000
DTSTAMP:20260421T112847
CREATED:20260402T182329Z
LAST-MODIFIED:20260414T142303Z
UID:10005882-1778356800-1778356800@creativealliance.org
SUMMARY:Interactive Movie Night: Death Becomes Her
DESCRIPTION:
URL:https://creativealliance.org/event/interactive-movie-night-death-becomes-her/2026-05-09/
CATEGORIES:Music, Performance & Film
ATTACH;FMTTYPE=image/png:https://creativealliance.org/wp-content/uploads/2026/04/DBH_2026_Web-Header_1.png
END:VEVENT
BEGIN:VEVENT
DTSTART;TZID=America/New_York:20260514T190000
DTEND;TZID=America/New_York:20260514T220000
DTSTAMP:20260421T112847
CREATED:20260130T200254Z
LAST-MODIFIED:20260130T200547Z
UID:10005644-1778785200-1778796000@creativealliance.org
SUMMARY:Craft and Cinema Night: Lilo & Stitch
DESCRIPTION:
URL:https://creativealliance.org/event/craft-and-cinema-night-lilo-and-stitch/
CATEGORIES:Music, Performance & Film
END:VEVENT
BEGIN:VEVENT
DTSTART;TZID=America/New_York:20260515T193000
DTEND;TZID=America/New_York:20260515T193000
DTSTAMP:20260421T112847
CREATED:20260327T173818Z
LAST-MODIFIED:20260327T173818Z
UID:10005875-1778873400-1778873400@creativealliance.org
SUMMARY:Kaki King
DESCRIPTION:
URL:https://creativealliance.org/event/kaki-king/
CATEGORIES:Music, Performance & Film,Streaming
ATTACH;FMTTYPE=image/jpeg:https://creativealliance.org/wp-content/uploads/2026/03/Kaki-King-Official-Photo-2nd-half-2025-scaled.jpg
END:VEVENT
BEGIN:VEVENT
DTSTART;TZID=America/New_York:20260523T193000
DTEND;TZID=America/New_York:20260523T193000
DTSTAMP:20260421T112847
CREATED:20260316T154154Z
LAST-MODIFIED:20260324T182923Z
UID:10005797-1779564600-1779564600@creativealliance.org
SUMMARY:Ear Hustle Live!
DESCRIPTION:
URL:https://creativealliance.org/event/ear-hustle-live/
CATEGORIES:Music, Performance & Film
ATTACH;FMTTYPE=image/png:https://creativealliance.org/wp-content/uploads/2026/03/ear-hustle-vertical-scaled.png
END:VEVENT
BEGIN:VEVENT
DTSTART;TZID=America/New_York:20260604T190000
DTEND;TZID=America/New_York:20260604T190000
DTSTAMP:20260421T112847
CREATED:20260420T215419Z
LAST-MODIFIED:20260420T215419Z
UID:10005926-1780599600-1780599600@creativealliance.org
SUMMARY:Film Screening: The Many Americas Series
DESCRIPTION:
URL:https://creativealliance.org/event/film-screening-the-many-americas-series-3/
CATEGORIES:Music, Performance & Film
END:VEVENT
BEGIN:VEVENT
DTSTART;TZID=America/New_York:20260605T190000
DTEND;TZID=America/New_York:20260605T190000
DTSTAMP:20260421T112847
CREATED:20260317T145816Z
LAST-MODIFIED:20260317T145928Z
UID:10005801-1780686000-1780686000@creativealliance.org
SUMMARY:Joe Keyes & The Late Bloomer Band
DESCRIPTION:
URL:https://creativealliance.org/event/joe-keyes-the-late-bloomer-band/
CATEGORIES:Music, Performance & Film,Streaming
ATTACH;FMTTYPE=image/jpeg:https://creativealliance.org/wp-content/uploads/2026/03/Joe-Keyes-The-Late-Bloomer-Band.jpg
END:VEVENT
BEGIN:VEVENT
DTSTART;TZID=America/New_York:20260606T190000
DTEND;TZID=America/New_York:20260606T190000
DTSTAMP:20260421T112847
CREATED:20260415T122400Z
LAST-MODIFIED:20260415T122622Z
UID:10005897-1780772400-1780772400@creativealliance.org
SUMMARY:Mortified Pride Edition 2026
DESCRIPTION:
URL:https://creativealliance.org/event/mortified-pride-edition-2026/
CATEGORIES:Music, Performance & Film,Streaming
ATTACH;FMTTYPE=image/jpeg:https://creativealliance.org/wp-content/uploads/2025/09/Unknown-5-2.jpeg
END:VEVENT
BEGIN:VEVENT
DTSTART;TZID=America/New_York:20260611T200000
DTEND;TZID=America/New_York:20260611T200000
DTSTAMP:20260421T112847
CREATED:20260421T150639Z
LAST-MODIFIED:20260421T150639Z
UID:10005927-1781208000-1781208000@creativealliance.org
SUMMARY:Interactive Movie Night: The Birdcage
DESCRIPTION:
URL:https://creativealliance.org/event/interactive-movie-night-the-birdcage/
CATEGORIES:Music, Performance & Film
ATTACH;FMTTYPE=image/jpeg:https://creativealliance.org/wp-content/uploads/2026/03/birdcage_xxlg.jpg
END:VEVENT
BEGIN:VEVENT
DTSTART;TZID=America/New_York:20260612T193000
DTEND;TZID=America/New_York:20260612T193000
DTSTAMP:20260421T112847
CREATED:20251010T160011Z
LAST-MODIFIED:20260207T090731Z
UID:10004859-1781292600-1781292600@creativealliance.org
SUMMARY:Amythyst Kiah 2026
DESCRIPTION:
URL:https://creativealliance.org/event/amythyst-kiah-jun2026/
CATEGORIES:Music, Performance & Film,Streaming
ATTACH;FMTTYPE=image/jpeg:https://creativealliance.org/wp-content/uploads/2025/10/05_KevinKing_05132024_Rounder_Amythyst_Kiah_0615_Retouched_web8-1.jpg
END:VEVENT
BEGIN:VEVENT
DTSTART;TZID=America/New_York:20260618T193000
DTEND;TZID=America/New_York:20260618T193000
DTSTAMP:20260421T112847
CREATED:20251010T160049Z
LAST-MODIFIED:20260205T170521Z
UID:10004860-1781811000-1781811000@creativealliance.org
SUMMARY:The Leila
DESCRIPTION:
URL:https://creativealliance.org/event/the-leila-2026/
CATEGORIES:Music, Performance & Film,Streaming
ATTACH;FMTTYPE=image/jpeg:https://creativealliance.org/wp-content/uploads/2025/10/Adobe-Express-file-4-scaled.jpg
END:VEVENT
BEGIN:VEVENT
DTSTART;TZID=America/New_York:20260806T190000
DTEND;TZID=America/New_York:20260806T190000
DTSTAMP:20260421T112847
CREATED:20260420T212944Z
LAST-MODIFIED:20260420T212944Z
UID:10005925-1786042800-1786042800@creativealliance.org
SUMMARY:Film Screening: The Many Americas Series
DESCRIPTION:
URL:https://creativealliance.org/event/film-screening-the-many-americas-series-2/
CATEGORIES:Music, Performance & Film
END:VEVENT
BEGIN:VEVENT
DTSTART;TZID=America/New_York:20261024T190000
DTEND;TZID=America/New_York:20261024T220000
DTSTAMP:20260421T112847
CREATED:20260417T201733Z
LAST-MODIFIED:20260417T202153Z
UID:10005924-1792868400-1792879200@creativealliance.org
SUMMARY:Charles McBee: You Had To Be There Tour
DESCRIPTION:Essential Tease instructors Jacqueline Boxx\, Tempete La Coeur\, and Ruby Rockafella are proud to present eight brand-spanking new burlesque performers! After completing an 8-week-long workshop that transformed them from the inside out\, these students are ready to bring their acts and assets to the stage for the first time ever! Featuring guest MC\, Jennifer Eden\, special performances by Essential Tease instructors\, and live ASL interpretation by Billy Sanders! The show will stream virtually as well as being live on stage!
URL:https://creativealliance.org/event/charles-mcbee-you-had-to-be-there-tour/
CATEGORIES:Music, Performance & Film
ATTACH;FMTTYPE=image/png:https://creativealliance.org/wp-content/uploads/2026/04/Charles-Mcbee-header.png
END:VEVENT
END:VCALENDAR