BEGIN:VCALENDAR
VERSION:2.0
PRODID:-//Creative Alliance - ECPv6.14.2//NONSGML v1.0//EN
CALSCALE:GREGORIAN
METHOD:PUBLISH
X-ORIGINAL-URL:https://creativealliance.org/?lang=es
X-WR-CALDESC:Eventos para Creative Alliance
REFRESH-INTERVAL;VALUE=DURATION:PT1H
X-Robots-Tag:noindex
X-PUBLISHED-TTL:PT1H
BEGIN:VTIMEZONE
TZID:America/New_York
BEGIN:DAYLIGHT
TZOFFSETFROM:-0500
TZOFFSETTO:-0400
TZNAME:EDT
DTSTART:20240310T070000
END:DAYLIGHT
BEGIN:STANDARD
TZOFFSETFROM:-0400
TZOFFSETTO:-0500
TZNAME:EST
DTSTART:20241103T060000
END:STANDARD
END:VTIMEZONE
BEGIN:VEVENT
DTSTART;TZID=America/New_York:20240203T100000
DTEND;TZID=America/New_York:20240203T110000
DTSTAMP:20260420T062132
CREATED:20231116T142627Z
LAST-MODIFIED:20240124T175839Z
UID:10003743-1706954400-1706958000@creativealliance.org
SUMMARY:Shake Out Your Sillies | Sacude tus Tonterías
DESCRIPTION:
URL:https://creativealliance.org/event/shake-out-your-sillies-jan-feb-2024/2024-02-03/?lang=es
CATEGORIES:Classes,Youth & Family
ATTACH;FMTTYPE=image/png:https://creativealliance.org/wp-content/uploads/2023/04/Screenshot-2023-07-14-at-10.48.14-PM-e1747675834782.png
END:VEVENT
BEGIN:VEVENT
DTSTART;TZID=America/New_York:20240210T100000
DTEND;TZID=America/New_York:20240210T110000
DTSTAMP:20260420T062132
CREATED:20231116T142627Z
LAST-MODIFIED:20240124T175839Z
UID:10003744-1707559200-1707562800@creativealliance.org
SUMMARY:Shake Out Your Sillies | Sacude tus Tonterías
DESCRIPTION:
URL:https://creativealliance.org/event/shake-out-your-sillies-jan-feb-2024/2024-02-10/?lang=es
CATEGORIES:Classes,Youth & Family
ATTACH;FMTTYPE=image/png:https://creativealliance.org/wp-content/uploads/2023/04/Screenshot-2023-07-14-at-10.48.14-PM-e1747675834782.png
END:VEVENT
BEGIN:VEVENT
DTSTART;TZID=America/New_York:20240216T100000
DTEND;TZID=America/New_York:20240216T100000
DTSTAMP:20260420T062132
CREATED:20231221T200606Z
LAST-MODIFIED:20240130T223147Z
UID:10003723-1708077600-1708077600@creativealliance.org
SUMMARY:Singing Storytime in Spanish/Cantando aprendo Español
DESCRIPTION:
URL:https://creativealliance.org/event/singing-storytime-in-spanish-cantando-aprendo-espanol-2/2024-02-16/?lang=es
CATEGORIES:Classes,Youth & Family
ATTACH;FMTTYPE=image/jpeg:https://creativealliance.org/wp-content/uploads/2023/01/singing-storytime-in-spanish-e1675367052223.jpg
END:VEVENT
BEGIN:VEVENT
DTSTART;TZID=America/New_York:20240217T100000
DTEND;TZID=America/New_York:20240217T110000
DTSTAMP:20260420T062132
CREATED:20231116T142627Z
LAST-MODIFIED:20240124T175839Z
UID:10003745-1708164000-1708167600@creativealliance.org
SUMMARY:Shake Out Your Sillies | Sacude tus Tonterías
DESCRIPTION:
URL:https://creativealliance.org/event/shake-out-your-sillies-jan-feb-2024/2024-02-17/?lang=es
CATEGORIES:Classes,Youth & Family
ATTACH;FMTTYPE=image/png:https://creativealliance.org/wp-content/uploads/2023/04/Screenshot-2023-07-14-at-10.48.14-PM-e1747675834782.png
END:VEVENT
BEGIN:VEVENT
DTSTART;TZID=America/New_York:20240217T120000
DTEND;TZID=America/New_York:20240217T150000
DTSTAMP:20260420T062132
CREATED:20240129T143558Z
LAST-MODIFIED:20240130T225837Z
UID:10003780-1708171200-1708182000@creativealliance.org
SUMMARY:¡Kerplunk! Arte Familiar ¡Gratis!
DESCRIPTION:https://creativealliance.my.salesforce-sites.com/ticket/#/events/a0S4W00000rKSoBUAW
URL:https://creativealliance.org/event/kerplunk-2024/?lang=es
CATEGORIES:Classes,Youth & Family
ATTACH;FMTTYPE=image/jpeg:https://creativealliance.org/wp-content/uploads/2024/01/16x9_flyer2024-scaled.jpg
END:VEVENT
BEGIN:VEVENT
DTSTART;TZID=America/New_York:20240222T193000
DTEND;TZID=America/New_York:20240222T193000
DTSTAMP:20260420T062132
CREATED:20231116T161014Z
LAST-MODIFIED:20240124T160844Z
UID:10003739-1708630200-1708630200@creativealliance.org
SUMMARY:Larry & Joe
DESCRIPTION:Essential Tease instructors Jacqueline Boxx\, Tempete La Coeur\, and Ruby Rockafella are proud to present eight brand-spanking new burlesque performers! After completing an 8-week-long workshop that transformed them from the inside out\, these students are ready to bring their acts and assets to the stage for the first time ever! Featuring guest MC\, Jennifer Eden\, special performances by Essential Tease instructors\, and live ASL interpretation by Billy Sanders! The show will stream virtually as well as being live on stage!
URL:https://creativealliance.org/event/larry-joe-2024/?lang=es
CATEGORIES:Music, Performance & Film,Streaming
ATTACH;FMTTYPE=image/jpeg:https://creativealliance.org/wp-content/uploads/2023/11/9-credit-tommy-coyote-scaled-e1700150492474.jpg
END:VEVENT
BEGIN:VEVENT
DTSTART;TZID=America/New_York:20240223T100000
DTEND;TZID=America/New_York:20240223T100000
DTSTAMP:20260420T062132
CREATED:20231221T200606Z
LAST-MODIFIED:20240130T223147Z
UID:10003724-1708682400-1708682400@creativealliance.org
SUMMARY:Singing Storytime in Spanish/Cantando aprendo Español
DESCRIPTION:
URL:https://creativealliance.org/event/singing-storytime-in-spanish-cantando-aprendo-espanol-2/2024-02-23/?lang=es
CATEGORIES:Classes,Youth & Family
ATTACH;FMTTYPE=image/jpeg:https://creativealliance.org/wp-content/uploads/2023/01/singing-storytime-in-spanish-e1675367052223.jpg
END:VEVENT
BEGIN:VEVENT
DTSTART;TZID=America/New_York:20240224T100000
DTEND;TZID=America/New_York:20240224T110000
DTSTAMP:20260420T062132
CREATED:20231116T142627Z
LAST-MODIFIED:20240124T175839Z
UID:10003746-1708768800-1708772400@creativealliance.org
SUMMARY:Shake Out Your Sillies | Sacude tus Tonterías
DESCRIPTION:
URL:https://creativealliance.org/event/shake-out-your-sillies-jan-feb-2024/2024-02-24/?lang=es
CATEGORIES:Classes,Youth & Family
ATTACH;FMTTYPE=image/png:https://creativealliance.org/wp-content/uploads/2023/04/Screenshot-2023-07-14-at-10.48.14-PM-e1747675834782.png
END:VEVENT
END:VCALENDAR